BEGIN:VCALENDAR
VERSION:2.0
PRODID:-//Carpenters Local 243 - ECPv6.15.20//NONSGML v1.0//EN
CALSCALE:GREGORIAN
METHOD:PUBLISH
X-ORIGINAL-URL:https://www.carpenters243.com
X-WR-CALDESC:Events for Carpenters Local 243
REFRESH-INTERVAL;VALUE=DURATION:PT1H
X-Robots-Tag:noindex
X-PUBLISHED-TTL:PT1H
BEGIN:VTIMEZONE
TZID:America/Chicago
BEGIN:DAYLIGHT
TZOFFSETFROM:-0600
TZOFFSETTO:-0500
TZNAME:CDT
DTSTART:20250309T080000
END:DAYLIGHT
BEGIN:STANDARD
TZOFFSETFROM:-0500
TZOFFSETTO:-0600
TZNAME:CST
DTSTART:20251102T070000
END:STANDARD
BEGIN:DAYLIGHT
TZOFFSETFROM:-0600
TZOFFSETTO:-0500
TZNAME:CDT
DTSTART:20260308T080000
END:DAYLIGHT
BEGIN:STANDARD
TZOFFSETFROM:-0500
TZOFFSETTO:-0600
TZNAME:CST
DTSTART:20261101T070000
END:STANDARD
BEGIN:DAYLIGHT
TZOFFSETFROM:-0600
TZOFFSETTO:-0500
TZNAME:CDT
DTSTART:20270314T080000
END:DAYLIGHT
BEGIN:STANDARD
TZOFFSETFROM:-0500
TZOFFSETTO:-0600
TZNAME:CST
DTSTART:20271107T070000
END:STANDARD
END:VTIMEZONE
BEGIN:VEVENT
DTSTART;TZID=America/Chicago:20260626T070000
DTEND;TZID=America/Chicago:20260626T080000
DTSTAMP:20260421T093008
CREATED:20260130T202157Z
LAST-MODIFIED:20260130T202157Z
UID:10000435-1782457200-1782460800@www.carpenters243.com
SUMMARY:Retiree Breakfast
DESCRIPTION:We’d like to invite all of our retirees to join us for breakfast and good conversation! \nLet us know if you plan on attending. \nPlease enable JavaScript in your browser to complete this form.Name *FirstLastPhone		\n			Name Email Phone\n			\n		\n		EmailRSVP
URL:https://www.carpenters243.com/event/retiree-breakfast/2026-06-26/
LOCATION:Carpenters Local 243\, 402 S Duncan Rd\, Champaign\, IL\, 61821\, United States
END:VEVENT
END:VCALENDAR