BEGIN:VCALENDAR
VERSION:2.0
PRODID:-//Carpenters Local 243 - ECPv6.15.20//NONSGML v1.0//EN
CALSCALE:GREGORIAN
METHOD:PUBLISH
X-ORIGINAL-URL:https://www.carpenters243.com
X-WR-CALDESC:Events for Carpenters Local 243
REFRESH-INTERVAL;VALUE=DURATION:PT1H
X-Robots-Tag:noindex
X-PUBLISHED-TTL:PT1H
BEGIN:VTIMEZONE
TZID:America/Chicago
BEGIN:DAYLIGHT
TZOFFSETFROM:-0600
TZOFFSETTO:-0500
TZNAME:CDT
DTSTART:20260308T080000
END:DAYLIGHT
BEGIN:STANDARD
TZOFFSETFROM:-0500
TZOFFSETTO:-0600
TZNAME:CST
DTSTART:20261101T070000
END:STANDARD
BEGIN:DAYLIGHT
TZOFFSETFROM:-0600
TZOFFSETTO:-0500
TZNAME:CDT
DTSTART:20270314T080000
END:DAYLIGHT
BEGIN:STANDARD
TZOFFSETFROM:-0500
TZOFFSETTO:-0600
TZNAME:CST
DTSTART:20271107T070000
END:STANDARD
BEGIN:DAYLIGHT
TZOFFSETFROM:-0600
TZOFFSETTO:-0500
TZNAME:CDT
DTSTART:20280312T080000
END:DAYLIGHT
BEGIN:STANDARD
TZOFFSETFROM:-0500
TZOFFSETTO:-0600
TZNAME:CST
DTSTART:20281105T070000
END:STANDARD
END:VTIMEZONE
BEGIN:VEVENT
DTSTART;TZID=America/Chicago:20270503T160000
DTEND;TZID=America/Chicago:20270503T170000
DTSTAMP:20260422T170948
CREATED:20251230T174844Z
LAST-MODIFIED:20260130T200710Z
UID:10000380-1809360000-1809363600@www.carpenters243.com
SUMMARY:John Boos Committee Meeting
DESCRIPTION:All John Boos Employees are encouraged to join us. We meet the first Monday of every month at the Effingham Event Center. \n  \nRSVP: \nPlease enable JavaScript in your browser to complete this form.Name *FirstLastEmail *		\n			Email Name Phone\n			\n		\n		PhoneRSVP
URL:https://www.carpenters243.com/event/john-boos-committee-meeting/2027-05-03/
LOCATION:1501 W Fayette Ave\, Effingham\, IL 62401\, 1501 W Fayette Ave\, Effingham\, IL\, 62401\, United States
END:VEVENT
END:VCALENDAR