BEGIN:VCALENDAR
VERSION:2.0
PRODID:-//Carpenters Local 243 - ECPv6.15.20//NONSGML v1.0//EN
CALSCALE:GREGORIAN
METHOD:PUBLISH
X-WR-CALNAME:Carpenters Local 243
X-ORIGINAL-URL:https://www.carpenters243.com
X-WR-CALDESC:Events for Carpenters Local 243
REFRESH-INTERVAL;VALUE=DURATION:PT1H
X-Robots-Tag:noindex
X-PUBLISHED-TTL:PT1H
BEGIN:VTIMEZONE
TZID:America/Chicago
BEGIN:DAYLIGHT
TZOFFSETFROM:-0600
TZOFFSETTO:-0500
TZNAME:CDT
DTSTART:20240310T080000
END:DAYLIGHT
BEGIN:STANDARD
TZOFFSETFROM:-0500
TZOFFSETTO:-0600
TZNAME:CST
DTSTART:20241103T070000
END:STANDARD
BEGIN:DAYLIGHT
TZOFFSETFROM:-0600
TZOFFSETTO:-0500
TZNAME:CDT
DTSTART:20250309T080000
END:DAYLIGHT
BEGIN:STANDARD
TZOFFSETFROM:-0500
TZOFFSETTO:-0600
TZNAME:CST
DTSTART:20251102T070000
END:STANDARD
BEGIN:DAYLIGHT
TZOFFSETFROM:-0600
TZOFFSETTO:-0500
TZNAME:CDT
DTSTART:20260308T080000
END:DAYLIGHT
BEGIN:STANDARD
TZOFFSETFROM:-0500
TZOFFSETTO:-0600
TZNAME:CST
DTSTART:20261101T070000
END:STANDARD
END:VTIMEZONE
BEGIN:VEVENT
DTSTART;TZID=America/Chicago:20251118T160000
DTEND;TZID=America/Chicago:20251118T170000
DTSTAMP:20260421T141638
CREATED:20250505T200607Z
LAST-MODIFIED:20250731T152959Z
UID:10000303-1763481600-1763485200@www.carpenters243.com
SUMMARY:Champaign Potential New Member Orientation
DESCRIPTION:
URL:https://www.carpenters243.com/event/champaign-potential-new-member-orientation/2025-11-18/
LOCATION:Carpenters Local 243\, 402 S Duncan Rd\, Champaign\, IL\, 61821\, United States
END:VEVENT
BEGIN:VEVENT
DTSTART;TZID=America/Chicago:20251111T160000
DTEND;TZID=America/Chicago:20251111T170000
DTSTAMP:20260421T141638
CREATED:20250505T200303Z
LAST-MODIFIED:20250603T201608Z
UID:10000067-1762876800-1762880400@www.carpenters243.com
SUMMARY:Effingham Potential New Member Orientation
DESCRIPTION:
URL:https://www.carpenters243.com/event/potential-new-member-orientation-effingham/2025-11-11/
LOCATION:Lincoln Land Building Trades Office\, 104 W Washington\, Effingham\, IL\, 62401\, United States
END:VEVENT
BEGIN:VEVENT
DTSTART;TZID=America/Chicago:20251022T183000
DTEND;TZID=America/Chicago:20251022T193000
DTSTAMP:20260421T141638
CREATED:20250505T200813Z
LAST-MODIFIED:20250731T153343Z
UID:10000186-1761157800-1761161400@www.carpenters243.com
SUMMARY:Southern Committee Meeting
DESCRIPTION:
URL:https://www.carpenters243.com/event/southern-committee-meeting/2025-10-22/
LOCATION:Muddy Saloon\, 10045 N 300th St\, Wheeler\, IL\, 62479\, United States
END:VEVENT
BEGIN:VEVENT
DTSTART;TZID=America/Chicago:20251021T160000
DTEND;TZID=America/Chicago:20251021T170000
DTSTAMP:20260421T141638
CREATED:20250505T200607Z
LAST-MODIFIED:20250731T152959Z
UID:10000302-1761062400-1761066000@www.carpenters243.com
SUMMARY:Champaign Potential New Member Orientation
DESCRIPTION:
URL:https://www.carpenters243.com/event/champaign-potential-new-member-orientation/2025-10-21/
LOCATION:Carpenters Local 243\, 402 S Duncan Rd\, Champaign\, IL\, 61821\, United States
END:VEVENT
BEGIN:VEVENT
DTSTART;TZID=America/Chicago:20251014T160000
DTEND;TZID=America/Chicago:20251014T170000
DTSTAMP:20260421T141638
CREATED:20250505T200303Z
LAST-MODIFIED:20250603T201608Z
UID:10000066-1760457600-1760461200@www.carpenters243.com
SUMMARY:Effingham Potential New Member Orientation
DESCRIPTION:
URL:https://www.carpenters243.com/event/potential-new-member-orientation-effingham/2025-10-14/
LOCATION:Lincoln Land Building Trades Office\, 104 W Washington\, Effingham\, IL\, 62401\, United States
END:VEVENT
BEGIN:VEVENT
DTSTART;TZID=America/Chicago:20250924T183000
DTEND;TZID=America/Chicago:20250924T193000
DTSTAMP:20260421T141638
CREATED:20250505T200813Z
LAST-MODIFIED:20250731T153343Z
UID:10000185-1758738600-1758742200@www.carpenters243.com
SUMMARY:Southern Committee Meeting
DESCRIPTION:
URL:https://www.carpenters243.com/event/southern-committee-meeting/2025-09-24/
LOCATION:Muddy Saloon\, 10045 N 300th St\, Wheeler\, IL\, 62479\, United States
END:VEVENT
BEGIN:VEVENT
DTSTART;TZID=America/Chicago:20250916T160000
DTEND;TZID=America/Chicago:20250916T170000
DTSTAMP:20260421T141638
CREATED:20250505T200607Z
LAST-MODIFIED:20250731T152959Z
UID:10000301-1758038400-1758042000@www.carpenters243.com
SUMMARY:Champaign Potential New Member Orientation
DESCRIPTION:
URL:https://www.carpenters243.com/event/champaign-potential-new-member-orientation/2025-09-16/
LOCATION:Carpenters Local 243\, 402 S Duncan Rd\, Champaign\, IL\, 61821\, United States
END:VEVENT
BEGIN:VEVENT
DTSTART;TZID=America/Chicago:20250909T160000
DTEND;TZID=America/Chicago:20250909T170000
DTSTAMP:20260421T141638
CREATED:20250505T200303Z
LAST-MODIFIED:20250603T201608Z
UID:10000065-1757433600-1757437200@www.carpenters243.com
SUMMARY:Effingham Potential New Member Orientation
DESCRIPTION:
URL:https://www.carpenters243.com/event/potential-new-member-orientation-effingham/2025-09-09/
LOCATION:Lincoln Land Building Trades Office\, 104 W Washington\, Effingham\, IL\, 62401\, United States
END:VEVENT
BEGIN:VEVENT
DTSTART;TZID=America/Chicago:20250827T183000
DTEND;TZID=America/Chicago:20250827T193000
DTSTAMP:20260421T141638
CREATED:20250505T200813Z
LAST-MODIFIED:20250731T153343Z
UID:10000184-1756319400-1756323000@www.carpenters243.com
SUMMARY:Southern Committee Meeting
DESCRIPTION:
URL:https://www.carpenters243.com/event/southern-committee-meeting/2025-08-27/
LOCATION:Muddy Saloon\, 10045 N 300th St\, Wheeler\, IL\, 62479\, United States
END:VEVENT
BEGIN:VEVENT
DTSTART;TZID=America/Chicago:20250812T160000
DTEND;TZID=America/Chicago:20250812T170000
DTSTAMP:20260421T141638
CREATED:20250731T151720Z
LAST-MODIFIED:20250731T152624Z
UID:10000300-1755014400-1755018000@www.carpenters243.com
SUMMARY:Champaign Potential New Member Orientation
DESCRIPTION:
URL:https://www.carpenters243.com/event/champaign-potential-new-member-orientation-2-2/
LOCATION:Carpenters Local 243\, 402 S Duncan Rd\, Champaign\, IL\, 61821\, United States
END:VEVENT
BEGIN:VEVENT
DTSTART;TZID=America/Chicago:20250812T160000
DTEND;TZID=America/Chicago:20250812T170000
DTSTAMP:20260421T141638
CREATED:20250505T200303Z
LAST-MODIFIED:20250603T201608Z
UID:10000064-1755014400-1755018000@www.carpenters243.com
SUMMARY:Effingham Potential New Member Orientation
DESCRIPTION:
URL:https://www.carpenters243.com/event/potential-new-member-orientation-effingham/2025-08-12/
LOCATION:Lincoln Land Building Trades Office\, 104 W Washington\, Effingham\, IL\, 62401\, United States
END:VEVENT
BEGIN:VEVENT
DTSTART;TZID=America/Chicago:20250723T183000
DTEND;TZID=America/Chicago:20250723T193000
DTSTAMP:20260421T141638
CREATED:20250505T200813Z
LAST-MODIFIED:20250731T153343Z
UID:10000183-1753295400-1753299000@www.carpenters243.com
SUMMARY:Southern Committee Meeting
DESCRIPTION:
URL:https://www.carpenters243.com/event/southern-committee-meeting/2025-07-23/
LOCATION:Muddy Saloon\, 10045 N 300th St\, Wheeler\, IL\, 62479\, United States
END:VEVENT
BEGIN:VEVENT
DTSTART;TZID=America/Chicago:20250715T160000
DTEND;TZID=America/Chicago:20250715T170000
DTSTAMP:20260421T141638
CREATED:20250505T200607Z
LAST-MODIFIED:20250731T152959Z
UID:10000123-1752595200-1752598800@www.carpenters243.com
SUMMARY:Champaign Potential New Member Orientation
DESCRIPTION:
URL:https://www.carpenters243.com/event/champaign-potential-new-member-orientation/2025-07-15/
LOCATION:Carpenters Local 243\, 402 S Duncan Rd\, Champaign\, IL\, 61821\, United States
END:VEVENT
BEGIN:VEVENT
DTSTART;TZID=America/Chicago:20250708T160000
DTEND;TZID=America/Chicago:20250708T170000
DTSTAMP:20260421T141638
CREATED:20250505T200303Z
LAST-MODIFIED:20250603T201608Z
UID:10000063-1751990400-1751994000@www.carpenters243.com
SUMMARY:Effingham Potential New Member Orientation
DESCRIPTION:
URL:https://www.carpenters243.com/event/potential-new-member-orientation-effingham/2025-07-08/
LOCATION:Lincoln Land Building Trades Office\, 104 W Washington\, Effingham\, IL\, 62401\, United States
END:VEVENT
BEGIN:VEVENT
DTSTART;TZID=America/Chicago:20250625T183000
DTEND;TZID=America/Chicago:20250625T193000
DTSTAMP:20260421T141638
CREATED:20250505T200813Z
LAST-MODIFIED:20250731T153343Z
UID:10000182-1750876200-1750879800@www.carpenters243.com
SUMMARY:Southern Committee Meeting
DESCRIPTION:
URL:https://www.carpenters243.com/event/southern-committee-meeting/2025-06-25/
LOCATION:Muddy Saloon\, 10045 N 300th St\, Wheeler\, IL\, 62479\, United States
END:VEVENT
BEGIN:VEVENT
DTSTART;TZID=America/Chicago:20250617T160000
DTEND;TZID=America/Chicago:20250617T170000
DTSTAMP:20260421T141638
CREATED:20250505T200607Z
LAST-MODIFIED:20250731T152959Z
UID:10000122-1750176000-1750179600@www.carpenters243.com
SUMMARY:Champaign Potential New Member Orientation
DESCRIPTION:
URL:https://www.carpenters243.com/event/champaign-potential-new-member-orientation/2025-06-17/
LOCATION:Carpenters Local 243\, 402 S Duncan Rd\, Champaign\, IL\, 61821\, United States
END:VEVENT
BEGIN:VEVENT
DTSTART;TZID=America/Chicago:20250610T160000
DTEND;TZID=America/Chicago:20250610T170000
DTSTAMP:20260421T141638
CREATED:20250505T200303Z
LAST-MODIFIED:20250603T201608Z
UID:10000062-1749571200-1749574800@www.carpenters243.com
SUMMARY:Effingham Potential New Member Orientation
DESCRIPTION:
URL:https://www.carpenters243.com/event/potential-new-member-orientation-effingham/2025-06-10/
LOCATION:Lincoln Land Building Trades Office\, 104 W Washington\, Effingham\, IL\, 62401\, United States
END:VEVENT
END:VCALENDAR