BEGIN:VCALENDAR
VERSION:2.0
PRODID:-//Carpenters Local 243 - ECPv6.15.20//NONSGML v1.0//EN
CALSCALE:GREGORIAN
METHOD:PUBLISH
X-WR-CALNAME:Carpenters Local 243
X-ORIGINAL-URL:https://www.carpenters243.com
X-WR-CALDESC:Events for Carpenters Local 243
REFRESH-INTERVAL;VALUE=DURATION:PT1H
X-Robots-Tag:noindex
X-PUBLISHED-TTL:PT1H
BEGIN:VTIMEZONE
TZID:America/Chicago
BEGIN:DAYLIGHT
TZOFFSETFROM:-0600
TZOFFSETTO:-0500
TZNAME:CDT
DTSTART:20250309T080000
END:DAYLIGHT
BEGIN:STANDARD
TZOFFSETFROM:-0500
TZOFFSETTO:-0600
TZNAME:CST
DTSTART:20251102T070000
END:STANDARD
BEGIN:DAYLIGHT
TZOFFSETFROM:-0600
TZOFFSETTO:-0500
TZNAME:CDT
DTSTART:20260308T080000
END:DAYLIGHT
BEGIN:STANDARD
TZOFFSETFROM:-0500
TZOFFSETTO:-0600
TZNAME:CST
DTSTART:20261101T070000
END:STANDARD
BEGIN:DAYLIGHT
TZOFFSETFROM:-0600
TZOFFSETTO:-0500
TZNAME:CDT
DTSTART:20270314T080000
END:DAYLIGHT
BEGIN:STANDARD
TZOFFSETFROM:-0500
TZOFFSETTO:-0600
TZNAME:CST
DTSTART:20271107T070000
END:STANDARD
END:VTIMEZONE
BEGIN:VEVENT
DTSTART;TZID=America/Chicago:20260210T160000
DTEND;TZID=America/Chicago:20260210T170000
DTSTAMP:20260421T201848
CREATED:20250505T200303Z
LAST-MODIFIED:20250603T201608Z
UID:10000070-1770739200-1770742800@www.carpenters243.com
SUMMARY:Effingham Potential New Member Orientation
DESCRIPTION:
URL:https://www.carpenters243.com/event/potential-new-member-orientation-effingham/2026-02-10/
LOCATION:Lincoln Land Building Trades Office\, 104 W Washington\, Effingham\, IL\, 62401\, United States
END:VEVENT
BEGIN:VEVENT
DTSTART;TZID=America/Chicago:20260216T170000
DTEND;TZID=America/Chicago:20260216T190000
DTSTAMP:20260421T201848
CREATED:20260210T211232Z
LAST-MODIFIED:20260210T211606Z
UID:10000438-1771261200-1771268400@www.carpenters243.com
SUMMARY:Membership Meeting
DESCRIPTION:Food starts at 5\, meeting begins at 6. Open to all members. \nPlease RSVP below! \nPlease enable JavaScript in your browser to complete this form.Name *FirstLast		\n			Phone Email Name\n			\n		\n		Email *Phone *RSVP
URL:https://www.carpenters243.com/event/membership-meeting-3/2026-02-16/
LOCATION:Carpenters Local 243\, 402 S Duncan Rd\, Champaign\, IL\, 61821\, United States
END:VEVENT
BEGIN:VEVENT
DTSTART;TZID=America/Chicago:20260217T160000
DTEND;TZID=America/Chicago:20260217T170000
DTSTAMP:20260421T201848
CREATED:20250505T200607Z
LAST-MODIFIED:20250731T152959Z
UID:10000306-1771344000-1771347600@www.carpenters243.com
SUMMARY:Champaign Potential New Member Orientation
DESCRIPTION:
URL:https://www.carpenters243.com/event/champaign-potential-new-member-orientation/2026-02-17/
LOCATION:Carpenters Local 243\, 402 S Duncan Rd\, Champaign\, IL\, 61821\, United States
END:VEVENT
BEGIN:VEVENT
DTSTART;TZID=America/Chicago:20260225T183000
DTEND;TZID=America/Chicago:20260225T193000
DTSTAMP:20260421T201848
CREATED:20260130T201518Z
LAST-MODIFIED:20260220T174125Z
UID:10000190-1772044200-1772047800@www.carpenters243.com
SUMMARY:Southern Committee Meeting
DESCRIPTION:The Southern Committee meets the 4th Monday of every month at the Muddy Saloon in Wheeler. Hope to see you there! \nLet us know if you’ll be joining us by filling out the RSVP form below. \nPlease enable JavaScript in your browser to complete this form.Name *FirstLast		\n			Email Phone Name\n			\n		\n		Email *Phone *RSVP
URL:https://www.carpenters243.com/event/southern-committee-meeting-3/2026-02-25/
LOCATION:Muddy Saloon\, 10045 N 300th St\, Wheeler\, IL\, 62479\, United States
END:VEVENT
BEGIN:VEVENT
DTSTART;TZID=America/Chicago:20260302T160000
DTEND;TZID=America/Chicago:20260302T170000
DTSTAMP:20260421T201848
CREATED:20251230T174844Z
LAST-MODIFIED:20260130T200710Z
UID:10000366-1772467200-1772470800@www.carpenters243.com
SUMMARY:John Boos Committee Meeting
DESCRIPTION:All John Boos Employees are encouraged to join us. We meet the first Monday of every month at the Effingham Event Center. \n  \nRSVP: \nPlease enable JavaScript in your browser to complete this form.Name *FirstLast		\n			Email Name Phone\n			\n		\n		Email *PhoneRSVP
URL:https://www.carpenters243.com/event/john-boos-committee-meeting/2026-03-02/
LOCATION:1501 W Fayette Ave\, Effingham\, IL 62401\, 1501 W Fayette Ave\, Effingham\, IL\, 62401\, United States
END:VEVENT
BEGIN:VEVENT
DTSTART;TZID=America/Chicago:20260310T160000
DTEND;TZID=America/Chicago:20260310T170000
DTSTAMP:20260421T201848
CREATED:20250505T200303Z
LAST-MODIFIED:20250603T201608Z
UID:10000071-1773158400-1773162000@www.carpenters243.com
SUMMARY:Effingham Potential New Member Orientation
DESCRIPTION:
URL:https://www.carpenters243.com/event/potential-new-member-orientation-effingham/2026-03-10/
LOCATION:Lincoln Land Building Trades Office\, 104 W Washington\, Effingham\, IL\, 62401\, United States
END:VEVENT
BEGIN:VEVENT
DTSTART;TZID=America/Chicago:20260316T170000
DTEND;TZID=America/Chicago:20260316T190000
DTSTAMP:20260421T201848
CREATED:20260210T211232Z
LAST-MODIFIED:20260210T211606Z
UID:10000439-1773680400-1773687600@www.carpenters243.com
SUMMARY:Membership Meeting
DESCRIPTION:Food starts at 5\, meeting begins at 6. Open to all members. \nPlease RSVP below! \nPlease enable JavaScript in your browser to complete this form.Name *FirstLast		\n			Email Phone Name\n			\n		\n		Email *Phone *RSVP
URL:https://www.carpenters243.com/event/membership-meeting-3/2026-03-16/
LOCATION:Carpenters Local 243\, 402 S Duncan Rd\, Champaign\, IL\, 61821\, United States
END:VEVENT
BEGIN:VEVENT
DTSTART;TZID=America/Chicago:20260317T160000
DTEND;TZID=America/Chicago:20260317T170000
DTSTAMP:20260421T201848
CREATED:20250505T200607Z
LAST-MODIFIED:20250731T152959Z
UID:10000307-1773763200-1773766800@www.carpenters243.com
SUMMARY:Champaign Potential New Member Orientation
DESCRIPTION:
URL:https://www.carpenters243.com/event/champaign-potential-new-member-orientation/2026-03-17/
LOCATION:Carpenters Local 243\, 402 S Duncan Rd\, Champaign\, IL\, 61821\, United States
END:VEVENT
BEGIN:VEVENT
DTSTART;TZID=America/Chicago:20260325T183000
DTEND;TZID=America/Chicago:20260325T193000
DTSTAMP:20260421T201848
CREATED:20260130T201518Z
LAST-MODIFIED:20260220T174125Z
UID:10000191-1774463400-1774467000@www.carpenters243.com
SUMMARY:Southern Committee Meeting
DESCRIPTION:The Southern Committee meets the 4th Monday of every month at the Muddy Saloon in Wheeler. Hope to see you there! \nLet us know if you’ll be joining us by filling out the RSVP form below. \nPlease enable JavaScript in your browser to complete this form.Name *FirstLast		\n			Name Phone Email\n			\n		\n		Email *Phone *RSVP
URL:https://www.carpenters243.com/event/southern-committee-meeting-3/2026-03-25/
LOCATION:Muddy Saloon\, 10045 N 300th St\, Wheeler\, IL\, 62479\, United States
END:VEVENT
BEGIN:VEVENT
DTSTART;TZID=America/Chicago:20260327T070000
DTEND;TZID=America/Chicago:20260327T080000
DTSTAMP:20260421T201848
CREATED:20260130T202157Z
LAST-MODIFIED:20260130T202157Z
UID:10000434-1774594800-1774598400@www.carpenters243.com
SUMMARY:Retiree Breakfast
DESCRIPTION:We’d like to invite all of our retirees to join us for breakfast and good conversation! \nLet us know if you plan on attending. \nPlease enable JavaScript in your browser to complete this form.Name *FirstLastPhone		\n			Phone Email Name\n			\n		\n		EmailRSVP
URL:https://www.carpenters243.com/event/retiree-breakfast/2026-03-27/
LOCATION:Carpenters Local 243\, 402 S Duncan Rd\, Champaign\, IL\, 61821\, United States
END:VEVENT
BEGIN:VEVENT
DTSTART;TZID=America/Chicago:20260406T160000
DTEND;TZID=America/Chicago:20260406T170000
DTSTAMP:20260421T201848
CREATED:20251230T174844Z
LAST-MODIFIED:20260130T200710Z
UID:10000367-1775491200-1775494800@www.carpenters243.com
SUMMARY:John Boos Committee Meeting
DESCRIPTION:All John Boos Employees are encouraged to join us. We meet the first Monday of every month at the Effingham Event Center. \n  \nRSVP: \nPlease enable JavaScript in your browser to complete this form.Name *FirstLast		\n			Email Phone Name\n			\n		\n		Email *PhoneRSVP
URL:https://www.carpenters243.com/event/john-boos-committee-meeting/2026-04-06/
LOCATION:1501 W Fayette Ave\, Effingham\, IL 62401\, 1501 W Fayette Ave\, Effingham\, IL\, 62401\, United States
END:VEVENT
BEGIN:VEVENT
DTSTART;TZID=America/Chicago:20260408T170000
DTEND;TZID=America/Chicago:20260408T180000
DTSTAMP:20260421T201848
CREATED:20260304T172129Z
LAST-MODIFIED:20260306T215912Z
UID:10000498-1775667600-1775671200@www.carpenters243.com
SUMMARY:Cub Club
DESCRIPTION:Please enable JavaScript in your browser to complete this form.Name *FirstLastEmail *		\n			* attend? Are\n			\n		\n		Are you able to attend? *YesNoNot SureSubmit
URL:https://www.carpenters243.com/event/cub-club/
LOCATION:Carpenters Local 243\, 402 S Duncan Rd\, Champaign\, IL\, 61821\, United States
END:VEVENT
BEGIN:VEVENT
DTSTART;TZID=America/Chicago:20260414T160000
DTEND;TZID=America/Chicago:20260414T170000
DTSTAMP:20260421T201848
CREATED:20250505T200303Z
LAST-MODIFIED:20250603T201608Z
UID:10000072-1776182400-1776186000@www.carpenters243.com
SUMMARY:Effingham Potential New Member Orientation
DESCRIPTION:
URL:https://www.carpenters243.com/event/potential-new-member-orientation-effingham/2026-04-14/
LOCATION:Lincoln Land Building Trades Office\, 104 W Washington\, Effingham\, IL\, 62401\, United States
END:VEVENT
BEGIN:VEVENT
DTSTART;TZID=America/Chicago:20260420T170000
DTEND;TZID=America/Chicago:20260420T190000
DTSTAMP:20260421T201848
CREATED:20260210T211232Z
LAST-MODIFIED:20260210T211606Z
UID:10000440-1776704400-1776711600@www.carpenters243.com
SUMMARY:Membership Meeting
DESCRIPTION:Food starts at 5\, meeting begins at 6. Open to all members. \nPlease RSVP below! \nPlease enable JavaScript in your browser to complete this form.Name *FirstLast		\n			Email Phone Name\n			\n		\n		Email *Phone *RSVP
URL:https://www.carpenters243.com/event/membership-meeting-3/2026-04-20/
LOCATION:Carpenters Local 243\, 402 S Duncan Rd\, Champaign\, IL\, 61821\, United States
END:VEVENT
BEGIN:VEVENT
DTSTART;TZID=America/Chicago:20260421T160000
DTEND;TZID=America/Chicago:20260421T170000
DTSTAMP:20260421T201848
CREATED:20250505T200607Z
LAST-MODIFIED:20250731T152959Z
UID:10000308-1776787200-1776790800@www.carpenters243.com
SUMMARY:Champaign Potential New Member Orientation
DESCRIPTION:
URL:https://www.carpenters243.com/event/champaign-potential-new-member-orientation/2026-04-21/
LOCATION:Carpenters Local 243\, 402 S Duncan Rd\, Champaign\, IL\, 61821\, United States
END:VEVENT
BEGIN:VEVENT
DTSTART;TZID=America/Chicago:20260422T183000
DTEND;TZID=America/Chicago:20260422T193000
DTSTAMP:20260421T201848
CREATED:20260130T201518Z
LAST-MODIFIED:20260220T174125Z
UID:10000192-1776882600-1776886200@www.carpenters243.com
SUMMARY:Southern Committee Meeting
DESCRIPTION:The Southern Committee meets the 4th Monday of every month at the Muddy Saloon in Wheeler. Hope to see you there! \nLet us know if you’ll be joining us by filling out the RSVP form below. \nPlease enable JavaScript in your browser to complete this form.Name *FirstLast		\n			Phone Name Email\n			\n		\n		Email *Phone *RSVP
URL:https://www.carpenters243.com/event/southern-committee-meeting-3/2026-04-22/
LOCATION:Muddy Saloon\, 10045 N 300th St\, Wheeler\, IL\, 62479\, United States
END:VEVENT
BEGIN:VEVENT
DTSTART;TZID=America/Chicago:20260504T160000
DTEND;TZID=America/Chicago:20260504T170000
DTSTAMP:20260421T201848
CREATED:20251230T174844Z
LAST-MODIFIED:20260130T200710Z
UID:10000368-1777910400-1777914000@www.carpenters243.com
SUMMARY:John Boos Committee Meeting
DESCRIPTION:All John Boos Employees are encouraged to join us. We meet the first Monday of every month at the Effingham Event Center. \n  \nRSVP: \nPlease enable JavaScript in your browser to complete this form.Name *FirstLast		\n			Phone Name Email\n			\n		\n		Email *PhoneRSVP
URL:https://www.carpenters243.com/event/john-boos-committee-meeting/2026-05-04/
LOCATION:1501 W Fayette Ave\, Effingham\, IL 62401\, 1501 W Fayette Ave\, Effingham\, IL\, 62401\, United States
END:VEVENT
BEGIN:VEVENT
DTSTART;TZID=America/Chicago:20260512T160000
DTEND;TZID=America/Chicago:20260512T170000
DTSTAMP:20260421T201848
CREATED:20250505T200303Z
LAST-MODIFIED:20250603T201608Z
UID:10000073-1778601600-1778605200@www.carpenters243.com
SUMMARY:Effingham Potential New Member Orientation
DESCRIPTION:
URL:https://www.carpenters243.com/event/potential-new-member-orientation-effingham/2026-05-12/
LOCATION:Lincoln Land Building Trades Office\, 104 W Washington\, Effingham\, IL\, 62401\, United States
END:VEVENT
BEGIN:VEVENT
DTSTART;TZID=America/Chicago:20260518T170000
DTEND;TZID=America/Chicago:20260518T190000
DTSTAMP:20260421T201848
CREATED:20260210T211232Z
LAST-MODIFIED:20260210T211606Z
UID:10000441-1779123600-1779130800@www.carpenters243.com
SUMMARY:Membership Meeting
DESCRIPTION:Food starts at 5\, meeting begins at 6. Open to all members. \nPlease RSVP below! \nPlease enable JavaScript in your browser to complete this form.Name *FirstLast		\n			Phone Name Email\n			\n		\n		Email *Phone *RSVP
URL:https://www.carpenters243.com/event/membership-meeting-3/2026-05-18/
LOCATION:Carpenters Local 243\, 402 S Duncan Rd\, Champaign\, IL\, 61821\, United States
END:VEVENT
BEGIN:VEVENT
DTSTART;TZID=America/Chicago:20260519T160000
DTEND;TZID=America/Chicago:20260519T170000
DTSTAMP:20260421T201848
CREATED:20250505T200607Z
LAST-MODIFIED:20250731T152959Z
UID:10000309-1779206400-1779210000@www.carpenters243.com
SUMMARY:Champaign Potential New Member Orientation
DESCRIPTION:
URL:https://www.carpenters243.com/event/champaign-potential-new-member-orientation/2026-05-19/
LOCATION:Carpenters Local 243\, 402 S Duncan Rd\, Champaign\, IL\, 61821\, United States
END:VEVENT
BEGIN:VEVENT
DTSTART;TZID=America/Chicago:20260527T183000
DTEND;TZID=America/Chicago:20260527T193000
DTSTAMP:20260421T201848
CREATED:20260130T201518Z
LAST-MODIFIED:20260220T174125Z
UID:10000193-1779906600-1779910200@www.carpenters243.com
SUMMARY:Southern Committee Meeting
DESCRIPTION:The Southern Committee meets the 4th Monday of every month at the Muddy Saloon in Wheeler. Hope to see you there! \nLet us know if you’ll be joining us by filling out the RSVP form below. \nPlease enable JavaScript in your browser to complete this form.Name *FirstLastEmail *		\n			Email Phone Name\n			\n		\n		Phone *RSVP
URL:https://www.carpenters243.com/event/southern-committee-meeting-3/2026-05-27/
LOCATION:Muddy Saloon\, 10045 N 300th St\, Wheeler\, IL\, 62479\, United States
END:VEVENT
BEGIN:VEVENT
DTSTART;TZID=America/Chicago:20260601T160000
DTEND;TZID=America/Chicago:20260601T170000
DTSTAMP:20260421T201848
CREATED:20251230T174844Z
LAST-MODIFIED:20260130T200710Z
UID:10000369-1780329600-1780333200@www.carpenters243.com
SUMMARY:John Boos Committee Meeting
DESCRIPTION:All John Boos Employees are encouraged to join us. We meet the first Monday of every month at the Effingham Event Center. \n  \nRSVP: \nPlease enable JavaScript in your browser to complete this form.Name *FirstLastEmail *		\n			Email Name Phone\n			\n		\n		PhoneRSVP
URL:https://www.carpenters243.com/event/john-boos-committee-meeting/2026-06-01/
LOCATION:1501 W Fayette Ave\, Effingham\, IL 62401\, 1501 W Fayette Ave\, Effingham\, IL\, 62401\, United States
END:VEVENT
BEGIN:VEVENT
DTSTART;TZID=America/Chicago:20260609T160000
DTEND;TZID=America/Chicago:20260609T170000
DTSTAMP:20260421T201848
CREATED:20250505T200303Z
LAST-MODIFIED:20250603T201608Z
UID:10000074-1781020800-1781024400@www.carpenters243.com
SUMMARY:Effingham Potential New Member Orientation
DESCRIPTION:
URL:https://www.carpenters243.com/event/potential-new-member-orientation-effingham/2026-06-09/
LOCATION:Lincoln Land Building Trades Office\, 104 W Washington\, Effingham\, IL\, 62401\, United States
END:VEVENT
BEGIN:VEVENT
DTSTART;TZID=America/Chicago:20260615T170000
DTEND;TZID=America/Chicago:20260615T190000
DTSTAMP:20260421T201848
CREATED:20260210T211232Z
LAST-MODIFIED:20260210T211606Z
UID:10000442-1781542800-1781550000@www.carpenters243.com
SUMMARY:Membership Meeting
DESCRIPTION:Food starts at 5\, meeting begins at 6. Open to all members. \nPlease RSVP below! \nPlease enable JavaScript in your browser to complete this form.Name *FirstLastEmail *		\n			Email Name Phone\n			\n		\n		Phone *RSVP
URL:https://www.carpenters243.com/event/membership-meeting-3/2026-06-15/
LOCATION:Carpenters Local 243\, 402 S Duncan Rd\, Champaign\, IL\, 61821\, United States
END:VEVENT
BEGIN:VEVENT
DTSTART;TZID=America/Chicago:20260616T160000
DTEND;TZID=America/Chicago:20260616T170000
DTSTAMP:20260421T201848
CREATED:20250505T200607Z
LAST-MODIFIED:20250731T152959Z
UID:10000310-1781625600-1781629200@www.carpenters243.com
SUMMARY:Champaign Potential New Member Orientation
DESCRIPTION:
URL:https://www.carpenters243.com/event/champaign-potential-new-member-orientation/2026-06-16/
LOCATION:Carpenters Local 243\, 402 S Duncan Rd\, Champaign\, IL\, 61821\, United States
END:VEVENT
BEGIN:VEVENT
DTSTART;TZID=America/Chicago:20260624T183000
DTEND;TZID=America/Chicago:20260624T193000
DTSTAMP:20260421T201848
CREATED:20260130T201518Z
LAST-MODIFIED:20260220T174125Z
UID:10000194-1782325800-1782329400@www.carpenters243.com
SUMMARY:Southern Committee Meeting
DESCRIPTION:The Southern Committee meets the 4th Monday of every month at the Muddy Saloon in Wheeler. Hope to see you there! \nLet us know if you’ll be joining us by filling out the RSVP form below. \nPlease enable JavaScript in your browser to complete this form.Name *FirstLastEmail *		\n			Email Name Phone\n			\n		\n		Phone *RSVP
URL:https://www.carpenters243.com/event/southern-committee-meeting-3/2026-06-24/
LOCATION:Muddy Saloon\, 10045 N 300th St\, Wheeler\, IL\, 62479\, United States
END:VEVENT
BEGIN:VEVENT
DTSTART;TZID=America/Chicago:20260626T070000
DTEND;TZID=America/Chicago:20260626T080000
DTSTAMP:20260421T201848
CREATED:20260130T202157Z
LAST-MODIFIED:20260130T202157Z
UID:10000435-1782457200-1782460800@www.carpenters243.com
SUMMARY:Retiree Breakfast
DESCRIPTION:We’d like to invite all of our retirees to join us for breakfast and good conversation! \nLet us know if you plan on attending. \nPlease enable JavaScript in your browser to complete this form.		\n			Phone Email Name\n			\n		\n		Name *FirstLastPhoneEmailRSVP
URL:https://www.carpenters243.com/event/retiree-breakfast/2026-06-26/
LOCATION:Carpenters Local 243\, 402 S Duncan Rd\, Champaign\, IL\, 61821\, United States
END:VEVENT
BEGIN:VEVENT
DTSTART;TZID=America/Chicago:20260706T160000
DTEND;TZID=America/Chicago:20260706T170000
DTSTAMP:20260421T201848
CREATED:20251230T174844Z
LAST-MODIFIED:20260130T200710Z
UID:10000370-1783353600-1783357200@www.carpenters243.com
SUMMARY:John Boos Committee Meeting
DESCRIPTION:All John Boos Employees are encouraged to join us. We meet the first Monday of every month at the Effingham Event Center. \n  \nRSVP: \nPlease enable JavaScript in your browser to complete this form.Name *FirstLastEmail *		\n			Name Email Phone\n			\n		\n		PhoneRSVP
URL:https://www.carpenters243.com/event/john-boos-committee-meeting/2026-07-06/
LOCATION:1501 W Fayette Ave\, Effingham\, IL 62401\, 1501 W Fayette Ave\, Effingham\, IL\, 62401\, United States
END:VEVENT
BEGIN:VEVENT
DTSTART;TZID=America/Chicago:20260714T160000
DTEND;TZID=America/Chicago:20260714T170000
DTSTAMP:20260421T201848
CREATED:20250505T200303Z
LAST-MODIFIED:20250603T201608Z
UID:10000075-1784044800-1784048400@www.carpenters243.com
SUMMARY:Effingham Potential New Member Orientation
DESCRIPTION:
URL:https://www.carpenters243.com/event/potential-new-member-orientation-effingham/2026-07-14/
LOCATION:Lincoln Land Building Trades Office\, 104 W Washington\, Effingham\, IL\, 62401\, United States
END:VEVENT
BEGIN:VEVENT
DTSTART;TZID=America/Chicago:20260720T170000
DTEND;TZID=America/Chicago:20260720T190000
DTSTAMP:20260421T201848
CREATED:20260210T211232Z
LAST-MODIFIED:20260210T211606Z
UID:10000443-1784566800-1784574000@www.carpenters243.com
SUMMARY:Membership Meeting
DESCRIPTION:Food starts at 5\, meeting begins at 6. Open to all members. \nPlease RSVP below! \nPlease enable JavaScript in your browser to complete this form.Name *FirstLast		\n			Name Email Phone\n			\n		\n		Email *Phone *RSVP
URL:https://www.carpenters243.com/event/membership-meeting-3/2026-07-20/
LOCATION:Carpenters Local 243\, 402 S Duncan Rd\, Champaign\, IL\, 61821\, United States
END:VEVENT
END:VCALENDAR