BEGIN:VCALENDAR
VERSION:2.0
PRODID:-//Carpenters Local 243 - ECPv6.15.20//NONSGML v1.0//EN
CALSCALE:GREGORIAN
METHOD:PUBLISH
X-WR-CALNAME:Carpenters Local 243
X-ORIGINAL-URL:https://www.carpenters243.com
X-WR-CALDESC:Events for Carpenters Local 243
REFRESH-INTERVAL;VALUE=DURATION:PT1H
X-Robots-Tag:noindex
X-PUBLISHED-TTL:PT1H
BEGIN:VTIMEZONE
TZID:America/Chicago
BEGIN:DAYLIGHT
TZOFFSETFROM:-0600
TZOFFSETTO:-0500
TZNAME:CDT
DTSTART:20250309T080000
END:DAYLIGHT
BEGIN:STANDARD
TZOFFSETFROM:-0500
TZOFFSETTO:-0600
TZNAME:CST
DTSTART:20251102T070000
END:STANDARD
BEGIN:DAYLIGHT
TZOFFSETFROM:-0600
TZOFFSETTO:-0500
TZNAME:CDT
DTSTART:20260308T080000
END:DAYLIGHT
BEGIN:STANDARD
TZOFFSETFROM:-0500
TZOFFSETTO:-0600
TZNAME:CST
DTSTART:20261101T070000
END:STANDARD
BEGIN:DAYLIGHT
TZOFFSETFROM:-0600
TZOFFSETTO:-0500
TZNAME:CDT
DTSTART:20270314T080000
END:DAYLIGHT
BEGIN:STANDARD
TZOFFSETFROM:-0500
TZOFFSETTO:-0600
TZNAME:CST
DTSTART:20271107T070000
END:STANDARD
END:VTIMEZONE
BEGIN:VEVENT
DTSTART;TZID=America/Chicago:20260714T160000
DTEND;TZID=America/Chicago:20260714T170000
DTSTAMP:20260421T153111
CREATED:20250505T200303Z
LAST-MODIFIED:20250603T201608Z
UID:10000075-1784044800-1784048400@www.carpenters243.com
SUMMARY:Effingham Potential New Member Orientation
DESCRIPTION:
URL:https://www.carpenters243.com/event/potential-new-member-orientation-effingham/2026-07-14/
LOCATION:Lincoln Land Building Trades Office\, 104 W Washington\, Effingham\, IL\, 62401\, United States
END:VEVENT
BEGIN:VEVENT
DTSTART;TZID=America/Chicago:20260720T170000
DTEND;TZID=America/Chicago:20260720T190000
DTSTAMP:20260421T153111
CREATED:20260210T211232Z
LAST-MODIFIED:20260210T211606Z
UID:10000443-1784566800-1784574000@www.carpenters243.com
SUMMARY:Membership Meeting
DESCRIPTION:Food starts at 5\, meeting begins at 6. Open to all members. \nPlease RSVP below! \nPlease enable JavaScript in your browser to complete this form.Name *FirstLastEmail *		\n			Email Name Phone\n			\n		\n		Phone *RSVP
URL:https://www.carpenters243.com/event/membership-meeting-3/2026-07-20/
LOCATION:Carpenters Local 243\, 402 S Duncan Rd\, Champaign\, IL\, 61821\, United States
END:VEVENT
BEGIN:VEVENT
DTSTART;TZID=America/Chicago:20260721T160000
DTEND;TZID=America/Chicago:20260721T170000
DTSTAMP:20260421T153111
CREATED:20250505T200607Z
LAST-MODIFIED:20250731T152959Z
UID:10000311-1784649600-1784653200@www.carpenters243.com
SUMMARY:Champaign Potential New Member Orientation
DESCRIPTION:
URL:https://www.carpenters243.com/event/champaign-potential-new-member-orientation/2026-07-21/
LOCATION:Carpenters Local 243\, 402 S Duncan Rd\, Champaign\, IL\, 61821\, United States
END:VEVENT
BEGIN:VEVENT
DTSTART;TZID=America/Chicago:20260722T183000
DTEND;TZID=America/Chicago:20260722T193000
DTSTAMP:20260421T153111
CREATED:20260130T201518Z
LAST-MODIFIED:20260220T174125Z
UID:10000195-1784745000-1784748600@www.carpenters243.com
SUMMARY:Southern Committee Meeting
DESCRIPTION:The Southern Committee meets the 4th Monday of every month at the Muddy Saloon in Wheeler. Hope to see you there! \nLet us know if you’ll be joining us by filling out the RSVP form below. \nPlease enable JavaScript in your browser to complete this form.Name *FirstLastEmail *		\n			Email Name Phone\n			\n		\n		Phone *RSVP
URL:https://www.carpenters243.com/event/southern-committee-meeting-3/2026-07-22/
LOCATION:Muddy Saloon\, 10045 N 300th St\, Wheeler\, IL\, 62479\, United States
END:VEVENT
BEGIN:VEVENT
DTSTART;TZID=America/Chicago:20260803T160000
DTEND;TZID=America/Chicago:20260803T170000
DTSTAMP:20260421T153111
CREATED:20251230T174844Z
LAST-MODIFIED:20260130T200710Z
UID:10000371-1785772800-1785776400@www.carpenters243.com
SUMMARY:John Boos Committee Meeting
DESCRIPTION:All John Boos Employees are encouraged to join us. We meet the first Monday of every month at the Effingham Event Center. \n  \nRSVP: \nPlease enable JavaScript in your browser to complete this form.Name *FirstLast		\n			Email Name Phone\n			\n		\n		Email *PhoneRSVP
URL:https://www.carpenters243.com/event/john-boos-committee-meeting/2026-08-03/
LOCATION:1501 W Fayette Ave\, Effingham\, IL 62401\, 1501 W Fayette Ave\, Effingham\, IL\, 62401\, United States
END:VEVENT
BEGIN:VEVENT
DTSTART;TZID=America/Chicago:20260811T160000
DTEND;TZID=America/Chicago:20260811T170000
DTSTAMP:20260421T153111
CREATED:20250505T200303Z
LAST-MODIFIED:20250603T201608Z
UID:10000076-1786464000-1786467600@www.carpenters243.com
SUMMARY:Effingham Potential New Member Orientation
DESCRIPTION:
URL:https://www.carpenters243.com/event/potential-new-member-orientation-effingham/2026-08-11/
LOCATION:Lincoln Land Building Trades Office\, 104 W Washington\, Effingham\, IL\, 62401\, United States
END:VEVENT
BEGIN:VEVENT
DTSTART;TZID=America/Chicago:20260817T170000
DTEND;TZID=America/Chicago:20260817T190000
DTSTAMP:20260421T153111
CREATED:20260210T211232Z
LAST-MODIFIED:20260210T211606Z
UID:10000444-1786986000-1786993200@www.carpenters243.com
SUMMARY:Membership Meeting
DESCRIPTION:Food starts at 5\, meeting begins at 6. Open to all members. \nPlease RSVP below! \nPlease enable JavaScript in your browser to complete this form.Name *FirstLast		\n			Name Email Phone\n			\n		\n		Email *Phone *RSVP
URL:https://www.carpenters243.com/event/membership-meeting-3/2026-08-17/
LOCATION:Carpenters Local 243\, 402 S Duncan Rd\, Champaign\, IL\, 61821\, United States
END:VEVENT
BEGIN:VEVENT
DTSTART;TZID=America/Chicago:20260818T160000
DTEND;TZID=America/Chicago:20260818T170000
DTSTAMP:20260421T153111
CREATED:20250505T200607Z
LAST-MODIFIED:20250731T152959Z
UID:10000312-1787068800-1787072400@www.carpenters243.com
SUMMARY:Champaign Potential New Member Orientation
DESCRIPTION:
URL:https://www.carpenters243.com/event/champaign-potential-new-member-orientation/2026-08-18/
LOCATION:Carpenters Local 243\, 402 S Duncan Rd\, Champaign\, IL\, 61821\, United States
END:VEVENT
BEGIN:VEVENT
DTSTART;TZID=America/Chicago:20260826T183000
DTEND;TZID=America/Chicago:20260826T193000
DTSTAMP:20260421T153111
CREATED:20260130T201518Z
LAST-MODIFIED:20260220T174125Z
UID:10000196-1787769000-1787772600@www.carpenters243.com
SUMMARY:Southern Committee Meeting
DESCRIPTION:The Southern Committee meets the 4th Monday of every month at the Muddy Saloon in Wheeler. Hope to see you there! \nLet us know if you’ll be joining us by filling out the RSVP form below. \nPlease enable JavaScript in your browser to complete this form.Name *FirstLastEmail *		\n			Email Name Phone\n			\n		\n		Phone *RSVP
URL:https://www.carpenters243.com/event/southern-committee-meeting-3/2026-08-26/
LOCATION:Muddy Saloon\, 10045 N 300th St\, Wheeler\, IL\, 62479\, United States
END:VEVENT
BEGIN:VEVENT
DTSTART;TZID=America/Chicago:20260907T160000
DTEND;TZID=America/Chicago:20260907T170000
DTSTAMP:20260421T153111
CREATED:20251230T174844Z
LAST-MODIFIED:20260130T200710Z
UID:10000372-1788796800-1788800400@www.carpenters243.com
SUMMARY:John Boos Committee Meeting
DESCRIPTION:All John Boos Employees are encouraged to join us. We meet the first Monday of every month at the Effingham Event Center. \n  \nRSVP: \nPlease enable JavaScript in your browser to complete this form.Name *FirstLastEmail *		\n			Phone Name Email\n			\n		\n		PhoneRSVP
URL:https://www.carpenters243.com/event/john-boos-committee-meeting/2026-09-07/
LOCATION:1501 W Fayette Ave\, Effingham\, IL 62401\, 1501 W Fayette Ave\, Effingham\, IL\, 62401\, United States
END:VEVENT
BEGIN:VEVENT
DTSTART;TZID=America/Chicago:20260908T160000
DTEND;TZID=America/Chicago:20260908T170000
DTSTAMP:20260421T153111
CREATED:20250505T200303Z
LAST-MODIFIED:20250603T201608Z
UID:10000077-1788883200-1788886800@www.carpenters243.com
SUMMARY:Effingham Potential New Member Orientation
DESCRIPTION:
URL:https://www.carpenters243.com/event/potential-new-member-orientation-effingham/2026-09-08/
LOCATION:Lincoln Land Building Trades Office\, 104 W Washington\, Effingham\, IL\, 62401\, United States
END:VEVENT
BEGIN:VEVENT
DTSTART;TZID=America/Chicago:20260915T160000
DTEND;TZID=America/Chicago:20260915T170000
DTSTAMP:20260421T153111
CREATED:20250505T200607Z
LAST-MODIFIED:20250731T152959Z
UID:10000313-1789488000-1789491600@www.carpenters243.com
SUMMARY:Champaign Potential New Member Orientation
DESCRIPTION:
URL:https://www.carpenters243.com/event/champaign-potential-new-member-orientation/2026-09-15/
LOCATION:Carpenters Local 243\, 402 S Duncan Rd\, Champaign\, IL\, 61821\, United States
END:VEVENT
BEGIN:VEVENT
DTSTART;TZID=America/Chicago:20260921T170000
DTEND;TZID=America/Chicago:20260921T190000
DTSTAMP:20260421T153111
CREATED:20260210T211232Z
LAST-MODIFIED:20260210T211606Z
UID:10000445-1790010000-1790017200@www.carpenters243.com
SUMMARY:Membership Meeting
DESCRIPTION:Food starts at 5\, meeting begins at 6. Open to all members. \nPlease RSVP below! \nPlease enable JavaScript in your browser to complete this form.Name *FirstLast		\n			Name Email Phone\n			\n		\n		Email *Phone *RSVP
URL:https://www.carpenters243.com/event/membership-meeting-3/2026-09-21/
LOCATION:Carpenters Local 243\, 402 S Duncan Rd\, Champaign\, IL\, 61821\, United States
END:VEVENT
BEGIN:VEVENT
DTSTART;TZID=America/Chicago:20260923T183000
DTEND;TZID=America/Chicago:20260923T193000
DTSTAMP:20260421T153111
CREATED:20260130T201518Z
LAST-MODIFIED:20260220T174125Z
UID:10000197-1790188200-1790191800@www.carpenters243.com
SUMMARY:Southern Committee Meeting
DESCRIPTION:The Southern Committee meets the 4th Monday of every month at the Muddy Saloon in Wheeler. Hope to see you there! \nLet us know if you’ll be joining us by filling out the RSVP form below. \nPlease enable JavaScript in your browser to complete this form.Name *FirstLast		\n			Email Phone Name\n			\n		\n		Email *Phone *RSVP
URL:https://www.carpenters243.com/event/southern-committee-meeting-3/2026-09-23/
LOCATION:Muddy Saloon\, 10045 N 300th St\, Wheeler\, IL\, 62479\, United States
END:VEVENT
BEGIN:VEVENT
DTSTART;TZID=America/Chicago:20260925T070000
DTEND;TZID=America/Chicago:20260925T080000
DTSTAMP:20260421T153111
CREATED:20260130T202157Z
LAST-MODIFIED:20260130T202157Z
UID:10000436-1790319600-1790323200@www.carpenters243.com
SUMMARY:Retiree Breakfast
DESCRIPTION:We’d like to invite all of our retirees to join us for breakfast and good conversation! \nLet us know if you plan on attending. \nPlease enable JavaScript in your browser to complete this form.Name *FirstLast		\n			Email Phone Name\n			\n		\n		PhoneEmailRSVP
URL:https://www.carpenters243.com/event/retiree-breakfast/2026-09-25/
LOCATION:Carpenters Local 243\, 402 S Duncan Rd\, Champaign\, IL\, 61821\, United States
END:VEVENT
BEGIN:VEVENT
DTSTART;TZID=America/Chicago:20261005T160000
DTEND;TZID=America/Chicago:20261005T170000
DTSTAMP:20260421T153111
CREATED:20251230T174844Z
LAST-MODIFIED:20260130T200710Z
UID:10000373-1791216000-1791219600@www.carpenters243.com
SUMMARY:John Boos Committee Meeting
DESCRIPTION:All John Boos Employees are encouraged to join us. We meet the first Monday of every month at the Effingham Event Center. \n  \nRSVP: \nPlease enable JavaScript in your browser to complete this form.Name *FirstLastEmail *PhoneRSVP
URL:https://www.carpenters243.com/event/john-boos-committee-meeting/2026-10-05/
LOCATION:1501 W Fayette Ave\, Effingham\, IL 62401\, 1501 W Fayette Ave\, Effingham\, IL\, 62401\, United States
END:VEVENT
BEGIN:VEVENT
DTSTART;TZID=America/Chicago:20261013T160000
DTEND;TZID=America/Chicago:20261013T170000
DTSTAMP:20260421T153111
CREATED:20250505T200303Z
LAST-MODIFIED:20250603T201608Z
UID:10000078-1791907200-1791910800@www.carpenters243.com
SUMMARY:Effingham Potential New Member Orientation
DESCRIPTION:
URL:https://www.carpenters243.com/event/potential-new-member-orientation-effingham/2026-10-13/
LOCATION:Lincoln Land Building Trades Office\, 104 W Washington\, Effingham\, IL\, 62401\, United States
END:VEVENT
BEGIN:VEVENT
DTSTART;TZID=America/Chicago:20261019T170000
DTEND;TZID=America/Chicago:20261019T190000
DTSTAMP:20260421T153111
CREATED:20260210T211232Z
LAST-MODIFIED:20260210T211606Z
UID:10000446-1792429200-1792436400@www.carpenters243.com
SUMMARY:Membership Meeting
DESCRIPTION:Food starts at 5\, meeting begins at 6. Open to all members. \nPlease RSVP below! \nPlease enable JavaScript in your browser to complete this form.Name *FirstLast		\n			Email Name Phone\n			\n		\n		Email *Phone *RSVP
URL:https://www.carpenters243.com/event/membership-meeting-3/2026-10-19/
LOCATION:Carpenters Local 243\, 402 S Duncan Rd\, Champaign\, IL\, 61821\, United States
END:VEVENT
BEGIN:VEVENT
DTSTART;TZID=America/Chicago:20261020T160000
DTEND;TZID=America/Chicago:20261020T170000
DTSTAMP:20260421T153111
CREATED:20250505T200607Z
LAST-MODIFIED:20250731T152959Z
UID:10000314-1792512000-1792515600@www.carpenters243.com
SUMMARY:Champaign Potential New Member Orientation
DESCRIPTION:
URL:https://www.carpenters243.com/event/champaign-potential-new-member-orientation/2026-10-20/
LOCATION:Carpenters Local 243\, 402 S Duncan Rd\, Champaign\, IL\, 61821\, United States
END:VEVENT
BEGIN:VEVENT
DTSTART;TZID=America/Chicago:20261028T183000
DTEND;TZID=America/Chicago:20261028T193000
DTSTAMP:20260421T153111
CREATED:20260130T201518Z
LAST-MODIFIED:20260220T174125Z
UID:10000198-1793212200-1793215800@www.carpenters243.com
SUMMARY:Southern Committee Meeting
DESCRIPTION:The Southern Committee meets the 4th Monday of every month at the Muddy Saloon in Wheeler. Hope to see you there! \nLet us know if you’ll be joining us by filling out the RSVP form below. \nPlease enable JavaScript in your browser to complete this form.Name *FirstLast		\n			Phone Name Email\n			\n		\n		Email *Phone *RSVP
URL:https://www.carpenters243.com/event/southern-committee-meeting-3/2026-10-28/
LOCATION:Muddy Saloon\, 10045 N 300th St\, Wheeler\, IL\, 62479\, United States
END:VEVENT
BEGIN:VEVENT
DTSTART;TZID=America/Chicago:20261102T160000
DTEND;TZID=America/Chicago:20261102T170000
DTSTAMP:20260421T153111
CREATED:20251230T174844Z
LAST-MODIFIED:20260130T200710Z
UID:10000374-1793635200-1793638800@www.carpenters243.com
SUMMARY:John Boos Committee Meeting
DESCRIPTION:All John Boos Employees are encouraged to join us. We meet the first Monday of every month at the Effingham Event Center. \n  \nRSVP: \nPlease enable JavaScript in your browser to complete this form.Name *FirstLast		\n			Name Phone Email\n			\n		\n		Email *PhoneRSVP
URL:https://www.carpenters243.com/event/john-boos-committee-meeting/2026-11-02/
LOCATION:1501 W Fayette Ave\, Effingham\, IL 62401\, 1501 W Fayette Ave\, Effingham\, IL\, 62401\, United States
END:VEVENT
BEGIN:VEVENT
DTSTART;TZID=America/Chicago:20261110T160000
DTEND;TZID=America/Chicago:20261110T170000
DTSTAMP:20260421T153111
CREATED:20250505T200303Z
LAST-MODIFIED:20250603T201608Z
UID:10000079-1794326400-1794330000@www.carpenters243.com
SUMMARY:Effingham Potential New Member Orientation
DESCRIPTION:
URL:https://www.carpenters243.com/event/potential-new-member-orientation-effingham/2026-11-10/
LOCATION:Lincoln Land Building Trades Office\, 104 W Washington\, Effingham\, IL\, 62401\, United States
END:VEVENT
BEGIN:VEVENT
DTSTART;TZID=America/Chicago:20261116T170000
DTEND;TZID=America/Chicago:20261116T190000
DTSTAMP:20260421T153111
CREATED:20260210T211232Z
LAST-MODIFIED:20260210T211606Z
UID:10000447-1794848400-1794855600@www.carpenters243.com
SUMMARY:Membership Meeting
DESCRIPTION:Food starts at 5\, meeting begins at 6. Open to all members. \nPlease RSVP below! \nPlease enable JavaScript in your browser to complete this form.Name *FirstLast		\n			Email Name Phone\n			\n		\n		Email *Phone *RSVP
URL:https://www.carpenters243.com/event/membership-meeting-3/2026-11-16/
LOCATION:Carpenters Local 243\, 402 S Duncan Rd\, Champaign\, IL\, 61821\, United States
END:VEVENT
BEGIN:VEVENT
DTSTART;TZID=America/Chicago:20261117T160000
DTEND;TZID=America/Chicago:20261117T170000
DTSTAMP:20260421T153111
CREATED:20250505T200607Z
LAST-MODIFIED:20250731T152959Z
UID:10000315-1794931200-1794934800@www.carpenters243.com
SUMMARY:Champaign Potential New Member Orientation
DESCRIPTION:
URL:https://www.carpenters243.com/event/champaign-potential-new-member-orientation/2026-11-17/
LOCATION:Carpenters Local 243\, 402 S Duncan Rd\, Champaign\, IL\, 61821\, United States
END:VEVENT
BEGIN:VEVENT
DTSTART;TZID=America/Chicago:20261125T183000
DTEND;TZID=America/Chicago:20261125T193000
DTSTAMP:20260421T153111
CREATED:20260130T201518Z
LAST-MODIFIED:20260220T174125Z
UID:10000199-1795631400-1795635000@www.carpenters243.com
SUMMARY:Southern Committee Meeting
DESCRIPTION:The Southern Committee meets the 4th Monday of every month at the Muddy Saloon in Wheeler. Hope to see you there! \nLet us know if you’ll be joining us by filling out the RSVP form below. \nPlease enable JavaScript in your browser to complete this form.Name *FirstLastEmail *		\n			Email Name Phone\n			\n		\n		Phone *RSVP
URL:https://www.carpenters243.com/event/southern-committee-meeting-3/2026-11-25/
LOCATION:Muddy Saloon\, 10045 N 300th St\, Wheeler\, IL\, 62479\, United States
END:VEVENT
BEGIN:VEVENT
DTSTART;TZID=America/Chicago:20261207T160000
DTEND;TZID=America/Chicago:20261207T170000
DTSTAMP:20260421T153111
CREATED:20251230T174844Z
LAST-MODIFIED:20260130T200710Z
UID:10000375-1796659200-1796662800@www.carpenters243.com
SUMMARY:John Boos Committee Meeting
DESCRIPTION:All John Boos Employees are encouraged to join us. We meet the first Monday of every month at the Effingham Event Center. \n  \nRSVP: \nPlease enable JavaScript in your browser to complete this form.Name *FirstLastEmail *		\n			Email Phone Name\n			\n		\n		PhoneRSVP
URL:https://www.carpenters243.com/event/john-boos-committee-meeting/2026-12-07/
LOCATION:1501 W Fayette Ave\, Effingham\, IL 62401\, 1501 W Fayette Ave\, Effingham\, IL\, 62401\, United States
END:VEVENT
BEGIN:VEVENT
DTSTART;TZID=America/Chicago:20261208T160000
DTEND;TZID=America/Chicago:20261208T170000
DTSTAMP:20260421T153111
CREATED:20250505T200303Z
LAST-MODIFIED:20250603T201608Z
UID:10000080-1796745600-1796749200@www.carpenters243.com
SUMMARY:Effingham Potential New Member Orientation
DESCRIPTION:
URL:https://www.carpenters243.com/event/potential-new-member-orientation-effingham/2026-12-08/
LOCATION:Lincoln Land Building Trades Office\, 104 W Washington\, Effingham\, IL\, 62401\, United States
END:VEVENT
BEGIN:VEVENT
DTSTART;TZID=America/Chicago:20261211T070000
DTEND;TZID=America/Chicago:20261211T080000
DTSTAMP:20260421T153111
CREATED:20260130T202157Z
LAST-MODIFIED:20260130T202157Z
UID:10000437-1796972400-1796976000@www.carpenters243.com
SUMMARY:Retiree Breakfast
DESCRIPTION:We’d like to invite all of our retirees to join us for breakfast and good conversation! \nLet us know if you plan on attending. \nPlease enable JavaScript in your browser to complete this form.		\n			Name Phone Email\n			\n		\n		Name *FirstLastPhoneEmailRSVP
URL:https://www.carpenters243.com/event/retiree-breakfast/2026-12-11/
LOCATION:Carpenters Local 243\, 402 S Duncan Rd\, Champaign\, IL\, 61821\, United States
END:VEVENT
BEGIN:VEVENT
DTSTART;TZID=America/Chicago:20261215T160000
DTEND;TZID=America/Chicago:20261215T170000
DTSTAMP:20260421T153111
CREATED:20250505T200607Z
LAST-MODIFIED:20250731T152959Z
UID:10000316-1797350400-1797354000@www.carpenters243.com
SUMMARY:Champaign Potential New Member Orientation
DESCRIPTION:
URL:https://www.carpenters243.com/event/champaign-potential-new-member-orientation/2026-12-15/
LOCATION:Carpenters Local 243\, 402 S Duncan Rd\, Champaign\, IL\, 61821\, United States
END:VEVENT
BEGIN:VEVENT
DTSTART;TZID=America/Chicago:20261221T170000
DTEND;TZID=America/Chicago:20261221T190000
DTSTAMP:20260421T153111
CREATED:20260210T211232Z
LAST-MODIFIED:20260210T211606Z
UID:10000448-1797872400-1797879600@www.carpenters243.com
SUMMARY:Membership Meeting
DESCRIPTION:Food starts at 5\, meeting begins at 6. Open to all members. \nPlease RSVP below! \nPlease enable JavaScript in your browser to complete this form.Name *FirstLast		\n			Name Phone Email\n			\n		\n		Email *Phone *RSVP
URL:https://www.carpenters243.com/event/membership-meeting-3/2026-12-21/
LOCATION:Carpenters Local 243\, 402 S Duncan Rd\, Champaign\, IL\, 61821\, United States
END:VEVENT
END:VCALENDAR