BEGIN:VCALENDAR
VERSION:2.0
PRODID:-//Carpenters Local 243 - ECPv6.15.20//NONSGML v1.0//EN
CALSCALE:GREGORIAN
METHOD:PUBLISH
X-ORIGINAL-URL:https://www.carpenters243.com
X-WR-CALDESC:Events for Carpenters Local 243
REFRESH-INTERVAL;VALUE=DURATION:PT1H
X-Robots-Tag:noindex
X-PUBLISHED-TTL:PT1H
BEGIN:VTIMEZONE
TZID:America/Chicago
BEGIN:DAYLIGHT
TZOFFSETFROM:-0600
TZOFFSETTO:-0500
TZNAME:CDT
DTSTART:20280312T080000
END:DAYLIGHT
BEGIN:STANDARD
TZOFFSETFROM:-0500
TZOFFSETTO:-0600
TZNAME:CST
DTSTART:20281105T070000
END:STANDARD
BEGIN:DAYLIGHT
TZOFFSETFROM:-0600
TZOFFSETTO:-0500
TZNAME:CDT
DTSTART:20290311T080000
END:DAYLIGHT
BEGIN:STANDARD
TZOFFSETFROM:-0500
TZOFFSETTO:-0600
TZNAME:CST
DTSTART:20291104T070000
END:STANDARD
BEGIN:DAYLIGHT
TZOFFSETFROM:-0600
TZOFFSETTO:-0500
TZNAME:CDT
DTSTART:20300310T080000
END:DAYLIGHT
BEGIN:STANDARD
TZOFFSETFROM:-0500
TZOFFSETTO:-0600
TZNAME:CST
DTSTART:20301103T070000
END:STANDARD
END:VTIMEZONE
BEGIN:VEVENT
DTSTART;TZID=America/Chicago:20290521T170000
DTEND;TZID=America/Chicago:20290521T190000
DTSTAMP:20260422T172045
CREATED:20260210T211232Z
LAST-MODIFIED:20260210T211606Z
UID:10000477-1874077200-1874084400@www.carpenters243.com
SUMMARY:Membership Meeting
DESCRIPTION:Food starts at 5\, meeting begins at 6. Open to all members. \nPlease RSVP below! \nPlease enable JavaScript in your browser to complete this form.Name *FirstLast		\n			Name Email Phone\n			\n		\n		Email *Phone *RSVP
URL:https://www.carpenters243.com/event/membership-meeting-3/2029-05-21/
LOCATION:Carpenters Local 243\, 402 S Duncan Rd\, Champaign\, IL\, 61821\, United States
END:VEVENT
BEGIN:VEVENT
DTSTART;TZID=America/Chicago:20290523T183000
DTEND;TZID=America/Chicago:20290523T193000
DTSTAMP:20260422T172045
CREATED:20260130T201518Z
LAST-MODIFIED:20260220T174125Z
UID:10000229-1874255400-1874259000@www.carpenters243.com
SUMMARY:Southern Committee Meeting
DESCRIPTION:The Southern Committee meets the 4th Monday of every month at the Muddy Saloon in Wheeler. Hope to see you there! \nLet us know if you’ll be joining us by filling out the RSVP form below. \nPlease enable JavaScript in your browser to complete this form.Name *FirstLast		\n			Phone Name Email\n			\n		\n		Email *Phone *RSVP
URL:https://www.carpenters243.com/event/southern-committee-meeting-3/2029-05-23/
LOCATION:Muddy Saloon\, 10045 N 300th St\, Wheeler\, IL\, 62479\, United States
END:VEVENT
BEGIN:VEVENT
DTSTART;TZID=America/Chicago:20290604T160000
DTEND;TZID=America/Chicago:20290604T170000
DTSTAMP:20260422T172045
CREATED:20251230T174844Z
LAST-MODIFIED:20260130T200710Z
UID:10000405-1875283200-1875286800@www.carpenters243.com
SUMMARY:John Boos Committee Meeting
DESCRIPTION:All John Boos Employees are encouraged to join us. We meet the first Monday of every month at the Effingham Event Center. \n  \nRSVP: \nPlease enable JavaScript in your browser to complete this form.Name *FirstLast		\n			Phone Email Name\n			\n		\n		Email *PhoneRSVP
URL:https://www.carpenters243.com/event/john-boos-committee-meeting/2029-06-04/
LOCATION:1501 W Fayette Ave\, Effingham\, IL 62401\, 1501 W Fayette Ave\, Effingham\, IL\, 62401\, United States
END:VEVENT
BEGIN:VEVENT
DTSTART;TZID=America/Chicago:20290612T160000
DTEND;TZID=America/Chicago:20290612T170000
DTSTAMP:20260422T172045
CREATED:20250505T200303Z
LAST-MODIFIED:20250603T201608Z
UID:10000110-1875974400-1875978000@www.carpenters243.com
SUMMARY:Effingham Potential New Member Orientation
DESCRIPTION:
URL:https://www.carpenters243.com/event/potential-new-member-orientation-effingham/2029-06-12/
LOCATION:Lincoln Land Building Trades Office\, 104 W Washington\, Effingham\, IL\, 62401\, United States
END:VEVENT
BEGIN:VEVENT
DTSTART;TZID=America/Chicago:20290618T170000
DTEND;TZID=America/Chicago:20290618T190000
DTSTAMP:20260422T172045
CREATED:20260210T211232Z
LAST-MODIFIED:20260210T211606Z
UID:10000478-1876496400-1876503600@www.carpenters243.com
SUMMARY:Membership Meeting
DESCRIPTION:Food starts at 5\, meeting begins at 6. Open to all members. \nPlease RSVP below! \nPlease enable JavaScript in your browser to complete this form.Name *FirstLastEmail *		\n			Email Name Phone\n			\n		\n		Phone *RSVP
URL:https://www.carpenters243.com/event/membership-meeting-3/2029-06-18/
LOCATION:Carpenters Local 243\, 402 S Duncan Rd\, Champaign\, IL\, 61821\, United States
END:VEVENT
BEGIN:VEVENT
DTSTART;TZID=America/Chicago:20290619T160000
DTEND;TZID=America/Chicago:20290619T170000
DTSTAMP:20260422T172045
CREATED:20250505T200607Z
LAST-MODIFIED:20250731T152959Z
UID:10000346-1876579200-1876582800@www.carpenters243.com
SUMMARY:Champaign Potential New Member Orientation
DESCRIPTION:
URL:https://www.carpenters243.com/event/champaign-potential-new-member-orientation/2029-06-19/
LOCATION:Carpenters Local 243\, 402 S Duncan Rd\, Champaign\, IL\, 61821\, United States
END:VEVENT
BEGIN:VEVENT
DTSTART;TZID=America/Chicago:20290627T183000
DTEND;TZID=America/Chicago:20290627T193000
DTSTAMP:20260422T172045
CREATED:20260130T201518Z
LAST-MODIFIED:20260220T174125Z
UID:10000230-1877279400-1877283000@www.carpenters243.com
SUMMARY:Southern Committee Meeting
DESCRIPTION:The Southern Committee meets the 4th Monday of every month at the Muddy Saloon in Wheeler. Hope to see you there! \nLet us know if you’ll be joining us by filling out the RSVP form below. \nPlease enable JavaScript in your browser to complete this form.Name *FirstLastEmail *		\n			Email Phone Name\n			\n		\n		Phone *RSVP
URL:https://www.carpenters243.com/event/southern-committee-meeting-3/2029-06-27/
LOCATION:Muddy Saloon\, 10045 N 300th St\, Wheeler\, IL\, 62479\, United States
END:VEVENT
BEGIN:VEVENT
DTSTART;TZID=America/Chicago:20290702T160000
DTEND;TZID=America/Chicago:20290702T170000
DTSTAMP:20260422T172045
CREATED:20251230T174844Z
LAST-MODIFIED:20260130T200710Z
UID:10000406-1877702400-1877706000@www.carpenters243.com
SUMMARY:John Boos Committee Meeting
DESCRIPTION:All John Boos Employees are encouraged to join us. We meet the first Monday of every month at the Effingham Event Center. \n  \nRSVP: \nPlease enable JavaScript in your browser to complete this form.Name *FirstLast		\n			Phone Name Email\n			\n		\n		Email *PhoneRSVP
URL:https://www.carpenters243.com/event/john-boos-committee-meeting/2029-07-02/
LOCATION:1501 W Fayette Ave\, Effingham\, IL 62401\, 1501 W Fayette Ave\, Effingham\, IL\, 62401\, United States
END:VEVENT
BEGIN:VEVENT
DTSTART;TZID=America/Chicago:20290710T160000
DTEND;TZID=America/Chicago:20290710T170000
DTSTAMP:20260422T172045
CREATED:20250505T200303Z
LAST-MODIFIED:20250603T201608Z
UID:10000111-1878393600-1878397200@www.carpenters243.com
SUMMARY:Effingham Potential New Member Orientation
DESCRIPTION:
URL:https://www.carpenters243.com/event/potential-new-member-orientation-effingham/2029-07-10/
LOCATION:Lincoln Land Building Trades Office\, 104 W Washington\, Effingham\, IL\, 62401\, United States
END:VEVENT
BEGIN:VEVENT
DTSTART;TZID=America/Chicago:20290716T170000
DTEND;TZID=America/Chicago:20290716T190000
DTSTAMP:20260422T172045
CREATED:20260210T211232Z
LAST-MODIFIED:20260210T211606Z
UID:10000479-1878915600-1878922800@www.carpenters243.com
SUMMARY:Membership Meeting
DESCRIPTION:Food starts at 5\, meeting begins at 6. Open to all members. \nPlease RSVP below! \nPlease enable JavaScript in your browser to complete this form.Name *FirstLast		\n			Phone Name Email\n			\n		\n		Email *Phone *RSVP
URL:https://www.carpenters243.com/event/membership-meeting-3/2029-07-16/
LOCATION:Carpenters Local 243\, 402 S Duncan Rd\, Champaign\, IL\, 61821\, United States
END:VEVENT
BEGIN:VEVENT
DTSTART;TZID=America/Chicago:20290717T160000
DTEND;TZID=America/Chicago:20290717T170000
DTSTAMP:20260422T172045
CREATED:20250505T200607Z
LAST-MODIFIED:20250731T152959Z
UID:10000347-1878998400-1879002000@www.carpenters243.com
SUMMARY:Champaign Potential New Member Orientation
DESCRIPTION:
URL:https://www.carpenters243.com/event/champaign-potential-new-member-orientation/2029-07-17/
LOCATION:Carpenters Local 243\, 402 S Duncan Rd\, Champaign\, IL\, 61821\, United States
END:VEVENT
BEGIN:VEVENT
DTSTART;TZID=America/Chicago:20290725T183000
DTEND;TZID=America/Chicago:20290725T193000
DTSTAMP:20260422T172045
CREATED:20260130T201518Z
LAST-MODIFIED:20260220T174125Z
UID:10000231-1879698600-1879702200@www.carpenters243.com
SUMMARY:Southern Committee Meeting
DESCRIPTION:The Southern Committee meets the 4th Monday of every month at the Muddy Saloon in Wheeler. Hope to see you there! \nLet us know if you’ll be joining us by filling out the RSVP form below. \nPlease enable JavaScript in your browser to complete this form.Name *FirstLast		\n			Email Name Phone\n			\n		\n		Email *Phone *RSVP
URL:https://www.carpenters243.com/event/southern-committee-meeting-3/2029-07-25/
LOCATION:Muddy Saloon\, 10045 N 300th St\, Wheeler\, IL\, 62479\, United States
END:VEVENT
BEGIN:VEVENT
DTSTART;TZID=America/Chicago:20290806T160000
DTEND;TZID=America/Chicago:20290806T170000
DTSTAMP:20260422T172045
CREATED:20251230T174844Z
LAST-MODIFIED:20260130T200710Z
UID:10000407-1880726400-1880730000@www.carpenters243.com
SUMMARY:John Boos Committee Meeting
DESCRIPTION:All John Boos Employees are encouraged to join us. We meet the first Monday of every month at the Effingham Event Center. \n  \nRSVP: \nPlease enable JavaScript in your browser to complete this form.Name *FirstLastEmail *		\n			Email Phone Name\n			\n		\n		PhoneRSVP
URL:https://www.carpenters243.com/event/john-boos-committee-meeting/2029-08-06/
LOCATION:1501 W Fayette Ave\, Effingham\, IL 62401\, 1501 W Fayette Ave\, Effingham\, IL\, 62401\, United States
END:VEVENT
BEGIN:VEVENT
DTSTART;TZID=America/Chicago:20290814T160000
DTEND;TZID=America/Chicago:20290814T170000
DTSTAMP:20260422T172045
CREATED:20250505T200303Z
LAST-MODIFIED:20250603T201608Z
UID:10000112-1881417600-1881421200@www.carpenters243.com
SUMMARY:Effingham Potential New Member Orientation
DESCRIPTION:
URL:https://www.carpenters243.com/event/potential-new-member-orientation-effingham/2029-08-14/
LOCATION:Lincoln Land Building Trades Office\, 104 W Washington\, Effingham\, IL\, 62401\, United States
END:VEVENT
BEGIN:VEVENT
DTSTART;TZID=America/Chicago:20290820T170000
DTEND;TZID=America/Chicago:20290820T190000
DTSTAMP:20260422T172045
CREATED:20260210T211232Z
LAST-MODIFIED:20260210T211606Z
UID:10000480-1881939600-1881946800@www.carpenters243.com
SUMMARY:Membership Meeting
DESCRIPTION:Food starts at 5\, meeting begins at 6. Open to all members. \nPlease RSVP below! \nPlease enable JavaScript in your browser to complete this form.Name *FirstLastEmail *		\n			Phone Email Name\n			\n		\n		Phone *RSVP
URL:https://www.carpenters243.com/event/membership-meeting-3/2029-08-20/
LOCATION:Carpenters Local 243\, 402 S Duncan Rd\, Champaign\, IL\, 61821\, United States
END:VEVENT
BEGIN:VEVENT
DTSTART;TZID=America/Chicago:20290821T160000
DTEND;TZID=America/Chicago:20290821T170000
DTSTAMP:20260422T172045
CREATED:20250505T200607Z
LAST-MODIFIED:20250731T152959Z
UID:10000348-1882022400-1882026000@www.carpenters243.com
SUMMARY:Champaign Potential New Member Orientation
DESCRIPTION:
URL:https://www.carpenters243.com/event/champaign-potential-new-member-orientation/2029-08-21/
LOCATION:Carpenters Local 243\, 402 S Duncan Rd\, Champaign\, IL\, 61821\, United States
END:VEVENT
BEGIN:VEVENT
DTSTART;TZID=America/Chicago:20290822T183000
DTEND;TZID=America/Chicago:20290822T193000
DTSTAMP:20260422T172045
CREATED:20260130T201518Z
LAST-MODIFIED:20260220T174125Z
UID:10000232-1882117800-1882121400@www.carpenters243.com
SUMMARY:Southern Committee Meeting
DESCRIPTION:The Southern Committee meets the 4th Monday of every month at the Muddy Saloon in Wheeler. Hope to see you there! \nLet us know if you’ll be joining us by filling out the RSVP form below. \nPlease enable JavaScript in your browser to complete this form.Name *FirstLast		\n			Name Email Phone\n			\n		\n		Email *Phone *RSVP
URL:https://www.carpenters243.com/event/southern-committee-meeting-3/2029-08-22/
LOCATION:Muddy Saloon\, 10045 N 300th St\, Wheeler\, IL\, 62479\, United States
END:VEVENT
BEGIN:VEVENT
DTSTART;TZID=America/Chicago:20290903T160000
DTEND;TZID=America/Chicago:20290903T170000
DTSTAMP:20260422T172045
CREATED:20251230T174844Z
LAST-MODIFIED:20260130T200710Z
UID:10000408-1883145600-1883149200@www.carpenters243.com
SUMMARY:John Boos Committee Meeting
DESCRIPTION:All John Boos Employees are encouraged to join us. We meet the first Monday of every month at the Effingham Event Center. \n  \nRSVP: \nPlease enable JavaScript in your browser to complete this form.Name *FirstLast		\n			Phone Email Name\n			\n		\n		Email *PhoneRSVP
URL:https://www.carpenters243.com/event/john-boos-committee-meeting/2029-09-03/
LOCATION:1501 W Fayette Ave\, Effingham\, IL 62401\, 1501 W Fayette Ave\, Effingham\, IL\, 62401\, United States
END:VEVENT
BEGIN:VEVENT
DTSTART;TZID=America/Chicago:20290911T160000
DTEND;TZID=America/Chicago:20290911T170000
DTSTAMP:20260422T172045
CREATED:20250505T200303Z
LAST-MODIFIED:20250603T201608Z
UID:10000113-1883836800-1883840400@www.carpenters243.com
SUMMARY:Effingham Potential New Member Orientation
DESCRIPTION:
URL:https://www.carpenters243.com/event/potential-new-member-orientation-effingham/2029-09-11/
LOCATION:Lincoln Land Building Trades Office\, 104 W Washington\, Effingham\, IL\, 62401\, United States
END:VEVENT
BEGIN:VEVENT
DTSTART;TZID=America/Chicago:20290917T170000
DTEND;TZID=America/Chicago:20290917T190000
DTSTAMP:20260422T172045
CREATED:20260210T211232Z
LAST-MODIFIED:20260210T211606Z
UID:10000481-1884358800-1884366000@www.carpenters243.com
SUMMARY:Membership Meeting
DESCRIPTION:Food starts at 5\, meeting begins at 6. Open to all members. \nPlease RSVP below! \nPlease enable JavaScript in your browser to complete this form.Name *FirstLast		\n			Name Email Phone\n			\n		\n		Email *Phone *RSVP
URL:https://www.carpenters243.com/event/membership-meeting-3/2029-09-17/
LOCATION:Carpenters Local 243\, 402 S Duncan Rd\, Champaign\, IL\, 61821\, United States
END:VEVENT
BEGIN:VEVENT
DTSTART;TZID=America/Chicago:20290918T160000
DTEND;TZID=America/Chicago:20290918T170000
DTSTAMP:20260422T172045
CREATED:20250505T200607Z
LAST-MODIFIED:20250731T152959Z
UID:10000349-1884441600-1884445200@www.carpenters243.com
SUMMARY:Champaign Potential New Member Orientation
DESCRIPTION:
URL:https://www.carpenters243.com/event/champaign-potential-new-member-orientation/2029-09-18/
LOCATION:Carpenters Local 243\, 402 S Duncan Rd\, Champaign\, IL\, 61821\, United States
END:VEVENT
BEGIN:VEVENT
DTSTART;TZID=America/Chicago:20290926T183000
DTEND;TZID=America/Chicago:20290926T193000
DTSTAMP:20260422T172045
CREATED:20260130T201518Z
LAST-MODIFIED:20260220T174125Z
UID:10000233-1885141800-1885145400@www.carpenters243.com
SUMMARY:Southern Committee Meeting
DESCRIPTION:The Southern Committee meets the 4th Monday of every month at the Muddy Saloon in Wheeler. Hope to see you there! \nLet us know if you’ll be joining us by filling out the RSVP form below. \nPlease enable JavaScript in your browser to complete this form.Name *FirstLast		\n			Phone Email Name\n			\n		\n		Email *Phone *RSVP
URL:https://www.carpenters243.com/event/southern-committee-meeting-3/2029-09-26/
LOCATION:Muddy Saloon\, 10045 N 300th St\, Wheeler\, IL\, 62479\, United States
END:VEVENT
BEGIN:VEVENT
DTSTART;TZID=America/Chicago:20291001T160000
DTEND;TZID=America/Chicago:20291001T170000
DTSTAMP:20260422T172045
CREATED:20251230T174844Z
LAST-MODIFIED:20260130T200710Z
UID:10000409-1885564800-1885568400@www.carpenters243.com
SUMMARY:John Boos Committee Meeting
DESCRIPTION:All John Boos Employees are encouraged to join us. We meet the first Monday of every month at the Effingham Event Center. \n  \nRSVP: \nPlease enable JavaScript in your browser to complete this form.Name *FirstLastEmail *		\n			Phone Email Name\n			\n		\n		PhoneRSVP
URL:https://www.carpenters243.com/event/john-boos-committee-meeting/2029-10-01/
LOCATION:1501 W Fayette Ave\, Effingham\, IL 62401\, 1501 W Fayette Ave\, Effingham\, IL\, 62401\, United States
END:VEVENT
BEGIN:VEVENT
DTSTART;TZID=America/Chicago:20291009T160000
DTEND;TZID=America/Chicago:20291009T170000
DTSTAMP:20260422T172045
CREATED:20250505T200303Z
LAST-MODIFIED:20250603T201608Z
UID:10000114-1886256000-1886259600@www.carpenters243.com
SUMMARY:Effingham Potential New Member Orientation
DESCRIPTION:
URL:https://www.carpenters243.com/event/potential-new-member-orientation-effingham/2029-10-09/
LOCATION:Lincoln Land Building Trades Office\, 104 W Washington\, Effingham\, IL\, 62401\, United States
END:VEVENT
BEGIN:VEVENT
DTSTART;TZID=America/Chicago:20291015T170000
DTEND;TZID=America/Chicago:20291015T190000
DTSTAMP:20260422T172045
CREATED:20260210T211232Z
LAST-MODIFIED:20260210T211606Z
UID:10000482-1886778000-1886785200@www.carpenters243.com
SUMMARY:Membership Meeting
DESCRIPTION:Food starts at 5\, meeting begins at 6. Open to all members. \nPlease RSVP below! \nPlease enable JavaScript in your browser to complete this form.Name *FirstLastEmail *		\n			Email Name Phone\n			\n		\n		Phone *RSVP
URL:https://www.carpenters243.com/event/membership-meeting-3/2029-10-15/
LOCATION:Carpenters Local 243\, 402 S Duncan Rd\, Champaign\, IL\, 61821\, United States
END:VEVENT
BEGIN:VEVENT
DTSTART;TZID=America/Chicago:20291016T160000
DTEND;TZID=America/Chicago:20291016T170000
DTSTAMP:20260422T172045
CREATED:20250505T200607Z
LAST-MODIFIED:20250731T152959Z
UID:10000350-1886860800-1886864400@www.carpenters243.com
SUMMARY:Champaign Potential New Member Orientation
DESCRIPTION:
URL:https://www.carpenters243.com/event/champaign-potential-new-member-orientation/2029-10-16/
LOCATION:Carpenters Local 243\, 402 S Duncan Rd\, Champaign\, IL\, 61821\, United States
END:VEVENT
BEGIN:VEVENT
DTSTART;TZID=America/Chicago:20291024T183000
DTEND;TZID=America/Chicago:20291024T193000
DTSTAMP:20260422T172045
CREATED:20260130T201518Z
LAST-MODIFIED:20260220T174125Z
UID:10000234-1887561000-1887564600@www.carpenters243.com
SUMMARY:Southern Committee Meeting
DESCRIPTION:The Southern Committee meets the 4th Monday of every month at the Muddy Saloon in Wheeler. Hope to see you there! \nLet us know if you’ll be joining us by filling out the RSVP form below. \nPlease enable JavaScript in your browser to complete this form.Name *FirstLast		\n			Phone Email Name\n			\n		\n		Email *Phone *RSVP
URL:https://www.carpenters243.com/event/southern-committee-meeting-3/2029-10-24/
LOCATION:Muddy Saloon\, 10045 N 300th St\, Wheeler\, IL\, 62479\, United States
END:VEVENT
BEGIN:VEVENT
DTSTART;TZID=America/Chicago:20291105T160000
DTEND;TZID=America/Chicago:20291105T170000
DTSTAMP:20260422T172045
CREATED:20251230T174844Z
LAST-MODIFIED:20260130T200710Z
UID:10000410-1888588800-1888592400@www.carpenters243.com
SUMMARY:John Boos Committee Meeting
DESCRIPTION:All John Boos Employees are encouraged to join us. We meet the first Monday of every month at the Effingham Event Center. \n  \nRSVP: \nPlease enable JavaScript in your browser to complete this form.Name *FirstLastEmail *		\n			Phone Email Name\n			\n		\n		PhoneRSVP
URL:https://www.carpenters243.com/event/john-boos-committee-meeting/2029-11-05/
LOCATION:1501 W Fayette Ave\, Effingham\, IL 62401\, 1501 W Fayette Ave\, Effingham\, IL\, 62401\, United States
END:VEVENT
BEGIN:VEVENT
DTSTART;TZID=America/Chicago:20291113T160000
DTEND;TZID=America/Chicago:20291113T170000
DTSTAMP:20260422T172045
CREATED:20250505T200303Z
LAST-MODIFIED:20250603T201608Z
UID:10000115-1889280000-1889283600@www.carpenters243.com
SUMMARY:Effingham Potential New Member Orientation
DESCRIPTION:
URL:https://www.carpenters243.com/event/potential-new-member-orientation-effingham/2029-11-13/
LOCATION:Lincoln Land Building Trades Office\, 104 W Washington\, Effingham\, IL\, 62401\, United States
END:VEVENT
BEGIN:VEVENT
DTSTART;TZID=America/Chicago:20291119T170000
DTEND;TZID=America/Chicago:20291119T190000
DTSTAMP:20260422T172045
CREATED:20260210T211232Z
LAST-MODIFIED:20260210T211606Z
UID:10000483-1889802000-1889809200@www.carpenters243.com
SUMMARY:Membership Meeting
DESCRIPTION:Food starts at 5\, meeting begins at 6. Open to all members. \nPlease RSVP below! \nPlease enable JavaScript in your browser to complete this form.Name *FirstLastEmail *		\n			Name Phone Email\n			\n		\n		Phone *RSVP
URL:https://www.carpenters243.com/event/membership-meeting-3/2029-11-19/
LOCATION:Carpenters Local 243\, 402 S Duncan Rd\, Champaign\, IL\, 61821\, United States
END:VEVENT
END:VCALENDAR