BEGIN:VCALENDAR
VERSION:2.0
PRODID:-//Carpenters Local 243 - ECPv6.15.20//NONSGML v1.0//EN
CALSCALE:GREGORIAN
METHOD:PUBLISH
X-WR-CALNAME:Carpenters Local 243
X-ORIGINAL-URL:https://www.carpenters243.com
X-WR-CALDESC:Events for Carpenters Local 243
REFRESH-INTERVAL;VALUE=DURATION:PT1H
X-Robots-Tag:noindex
X-PUBLISHED-TTL:PT1H
BEGIN:VTIMEZONE
TZID:America/Chicago
BEGIN:DAYLIGHT
TZOFFSETFROM:-0600
TZOFFSETTO:-0500
TZNAME:CDT
DTSTART:20260308T080000
END:DAYLIGHT
BEGIN:STANDARD
TZOFFSETFROM:-0500
TZOFFSETTO:-0600
TZNAME:CST
DTSTART:20261101T070000
END:STANDARD
BEGIN:DAYLIGHT
TZOFFSETFROM:-0600
TZOFFSETTO:-0500
TZNAME:CDT
DTSTART:20270314T080000
END:DAYLIGHT
BEGIN:STANDARD
TZOFFSETFROM:-0500
TZOFFSETTO:-0600
TZNAME:CST
DTSTART:20271107T070000
END:STANDARD
BEGIN:DAYLIGHT
TZOFFSETFROM:-0600
TZOFFSETTO:-0500
TZNAME:CDT
DTSTART:20280312T080000
END:DAYLIGHT
BEGIN:STANDARD
TZOFFSETFROM:-0500
TZOFFSETTO:-0600
TZNAME:CST
DTSTART:20281105T070000
END:STANDARD
END:VTIMEZONE
BEGIN:VEVENT
DTSTART;TZID=America/Chicago:20270104T160000
DTEND;TZID=America/Chicago:20270104T170000
DTSTAMP:20260421T154854
CREATED:20251230T174844Z
LAST-MODIFIED:20260130T200710Z
UID:10000376-1799078400-1799082000@www.carpenters243.com
SUMMARY:John Boos Committee Meeting
DESCRIPTION:All John Boos Employees are encouraged to join us. We meet the first Monday of every month at the Effingham Event Center. \n  \nRSVP: \nPlease enable JavaScript in your browser to complete this form.Name *FirstLast		\n			Email Name Phone\n			\n		\n		Email *PhoneRSVP
URL:https://www.carpenters243.com/event/john-boos-committee-meeting/2027-01-04/
LOCATION:1501 W Fayette Ave\, Effingham\, IL 62401\, 1501 W Fayette Ave\, Effingham\, IL\, 62401\, United States
END:VEVENT
BEGIN:VEVENT
DTSTART;TZID=America/Chicago:20270112T160000
DTEND;TZID=America/Chicago:20270112T170000
DTSTAMP:20260421T154854
CREATED:20250505T200303Z
LAST-MODIFIED:20250603T201608Z
UID:10000081-1799769600-1799773200@www.carpenters243.com
SUMMARY:Effingham Potential New Member Orientation
DESCRIPTION:
URL:https://www.carpenters243.com/event/potential-new-member-orientation-effingham/2027-01-12/
LOCATION:Lincoln Land Building Trades Office\, 104 W Washington\, Effingham\, IL\, 62401\, United States
END:VEVENT
BEGIN:VEVENT
DTSTART;TZID=America/Chicago:20270118T170000
DTEND;TZID=America/Chicago:20270118T190000
DTSTAMP:20260421T154854
CREATED:20260210T211232Z
LAST-MODIFIED:20260210T211606Z
UID:10000449-1800291600-1800298800@www.carpenters243.com
SUMMARY:Membership Meeting
DESCRIPTION:Food starts at 5\, meeting begins at 6. Open to all members. \nPlease RSVP below! \nPlease enable JavaScript in your browser to complete this form.Name *FirstLast		\n			Name Phone Email\n			\n		\n		Email *Phone *RSVP
URL:https://www.carpenters243.com/event/membership-meeting-3/2027-01-18/
LOCATION:Carpenters Local 243\, 402 S Duncan Rd\, Champaign\, IL\, 61821\, United States
END:VEVENT
BEGIN:VEVENT
DTSTART;TZID=America/Chicago:20270119T160000
DTEND;TZID=America/Chicago:20270119T170000
DTSTAMP:20260421T154854
CREATED:20250505T200607Z
LAST-MODIFIED:20250731T152959Z
UID:10000317-1800374400-1800378000@www.carpenters243.com
SUMMARY:Champaign Potential New Member Orientation
DESCRIPTION:
URL:https://www.carpenters243.com/event/champaign-potential-new-member-orientation/2027-01-19/
LOCATION:Carpenters Local 243\, 402 S Duncan Rd\, Champaign\, IL\, 61821\, United States
END:VEVENT
BEGIN:VEVENT
DTSTART;TZID=America/Chicago:20270127T183000
DTEND;TZID=America/Chicago:20270127T193000
DTSTAMP:20260421T154854
CREATED:20260130T201518Z
LAST-MODIFIED:20260220T174125Z
UID:10000201-1801074600-1801078200@www.carpenters243.com
SUMMARY:Southern Committee Meeting
DESCRIPTION:The Southern Committee meets the 4th Monday of every month at the Muddy Saloon in Wheeler. Hope to see you there! \nLet us know if you’ll be joining us by filling out the RSVP form below. \nPlease enable JavaScript in your browser to complete this form.Name *FirstLast		\n			Email Name Phone\n			\n		\n		Email *Phone *RSVP
URL:https://www.carpenters243.com/event/southern-committee-meeting-3/2027-01-27/
LOCATION:Muddy Saloon\, 10045 N 300th St\, Wheeler\, IL\, 62479\, United States
END:VEVENT
BEGIN:VEVENT
DTSTART;TZID=America/Chicago:20270201T160000
DTEND;TZID=America/Chicago:20270201T170000
DTSTAMP:20260421T154854
CREATED:20251230T174844Z
LAST-MODIFIED:20260130T200710Z
UID:10000377-1801497600-1801501200@www.carpenters243.com
SUMMARY:John Boos Committee Meeting
DESCRIPTION:All John Boos Employees are encouraged to join us. We meet the first Monday of every month at the Effingham Event Center. \n  \nRSVP: \nPlease enable JavaScript in your browser to complete this form.Name *FirstLast		\n			Phone Name Email\n			\n		\n		Email *PhoneRSVP
URL:https://www.carpenters243.com/event/john-boos-committee-meeting/2027-02-01/
LOCATION:1501 W Fayette Ave\, Effingham\, IL 62401\, 1501 W Fayette Ave\, Effingham\, IL\, 62401\, United States
END:VEVENT
BEGIN:VEVENT
DTSTART;TZID=America/Chicago:20270209T160000
DTEND;TZID=America/Chicago:20270209T170000
DTSTAMP:20260421T154854
CREATED:20250505T200303Z
LAST-MODIFIED:20250603T201608Z
UID:10000082-1802188800-1802192400@www.carpenters243.com
SUMMARY:Effingham Potential New Member Orientation
DESCRIPTION:
URL:https://www.carpenters243.com/event/potential-new-member-orientation-effingham/2027-02-09/
LOCATION:Lincoln Land Building Trades Office\, 104 W Washington\, Effingham\, IL\, 62401\, United States
END:VEVENT
BEGIN:VEVENT
DTSTART;TZID=America/Chicago:20270215T170000
DTEND;TZID=America/Chicago:20270215T190000
DTSTAMP:20260421T154854
CREATED:20260210T211232Z
LAST-MODIFIED:20260210T211606Z
UID:10000450-1802710800-1802718000@www.carpenters243.com
SUMMARY:Membership Meeting
DESCRIPTION:Food starts at 5\, meeting begins at 6. Open to all members. \nPlease RSVP below! \nPlease enable JavaScript in your browser to complete this form.Name *FirstLast		\n			Name Phone Email\n			\n		\n		Email *Phone *RSVP
URL:https://www.carpenters243.com/event/membership-meeting-3/2027-02-15/
LOCATION:Carpenters Local 243\, 402 S Duncan Rd\, Champaign\, IL\, 61821\, United States
END:VEVENT
BEGIN:VEVENT
DTSTART;TZID=America/Chicago:20270216T160000
DTEND;TZID=America/Chicago:20270216T170000
DTSTAMP:20260421T154854
CREATED:20250505T200607Z
LAST-MODIFIED:20250731T152959Z
UID:10000318-1802793600-1802797200@www.carpenters243.com
SUMMARY:Champaign Potential New Member Orientation
DESCRIPTION:
URL:https://www.carpenters243.com/event/champaign-potential-new-member-orientation/2027-02-16/
LOCATION:Carpenters Local 243\, 402 S Duncan Rd\, Champaign\, IL\, 61821\, United States
END:VEVENT
BEGIN:VEVENT
DTSTART;TZID=America/Chicago:20270224T183000
DTEND;TZID=America/Chicago:20270224T193000
DTSTAMP:20260421T154854
CREATED:20260130T201518Z
LAST-MODIFIED:20260220T174125Z
UID:10000202-1803493800-1803497400@www.carpenters243.com
SUMMARY:Southern Committee Meeting
DESCRIPTION:The Southern Committee meets the 4th Monday of every month at the Muddy Saloon in Wheeler. Hope to see you there! \nLet us know if you’ll be joining us by filling out the RSVP form below. \nPlease enable JavaScript in your browser to complete this form.Name *FirstLastEmail *		\n			Email Name Phone\n			\n		\n		Phone *RSVP
URL:https://www.carpenters243.com/event/southern-committee-meeting-3/2027-02-24/
LOCATION:Muddy Saloon\, 10045 N 300th St\, Wheeler\, IL\, 62479\, United States
END:VEVENT
BEGIN:VEVENT
DTSTART;TZID=America/Chicago:20270301T160000
DTEND;TZID=America/Chicago:20270301T170000
DTSTAMP:20260421T154854
CREATED:20251230T174844Z
LAST-MODIFIED:20260130T200710Z
UID:10000378-1803916800-1803920400@www.carpenters243.com
SUMMARY:John Boos Committee Meeting
DESCRIPTION:All John Boos Employees are encouraged to join us. We meet the first Monday of every month at the Effingham Event Center. \n  \nRSVP: \nPlease enable JavaScript in your browser to complete this form.Name *FirstLast		\n			Name Email Phone\n			\n		\n		Email *PhoneRSVP
URL:https://www.carpenters243.com/event/john-boos-committee-meeting/2027-03-01/
LOCATION:1501 W Fayette Ave\, Effingham\, IL 62401\, 1501 W Fayette Ave\, Effingham\, IL\, 62401\, United States
END:VEVENT
BEGIN:VEVENT
DTSTART;TZID=America/Chicago:20270309T160000
DTEND;TZID=America/Chicago:20270309T170000
DTSTAMP:20260421T154854
CREATED:20250505T200303Z
LAST-MODIFIED:20250603T201608Z
UID:10000083-1804608000-1804611600@www.carpenters243.com
SUMMARY:Effingham Potential New Member Orientation
DESCRIPTION:
URL:https://www.carpenters243.com/event/potential-new-member-orientation-effingham/2027-03-09/
LOCATION:Lincoln Land Building Trades Office\, 104 W Washington\, Effingham\, IL\, 62401\, United States
END:VEVENT
BEGIN:VEVENT
DTSTART;TZID=America/Chicago:20270315T170000
DTEND;TZID=America/Chicago:20270315T190000
DTSTAMP:20260421T154854
CREATED:20260210T211232Z
LAST-MODIFIED:20260210T211606Z
UID:10000451-1805130000-1805137200@www.carpenters243.com
SUMMARY:Membership Meeting
DESCRIPTION:Food starts at 5\, meeting begins at 6. Open to all members. \nPlease RSVP below! \nPlease enable JavaScript in your browser to complete this form.Name *FirstLast		\n			Email Name Phone\n			\n		\n		Email *Phone *RSVP
URL:https://www.carpenters243.com/event/membership-meeting-3/2027-03-15/
LOCATION:Carpenters Local 243\, 402 S Duncan Rd\, Champaign\, IL\, 61821\, United States
END:VEVENT
BEGIN:VEVENT
DTSTART;TZID=America/Chicago:20270316T160000
DTEND;TZID=America/Chicago:20270316T170000
DTSTAMP:20260421T154854
CREATED:20250505T200607Z
LAST-MODIFIED:20250731T152959Z
UID:10000319-1805212800-1805216400@www.carpenters243.com
SUMMARY:Champaign Potential New Member Orientation
DESCRIPTION:
URL:https://www.carpenters243.com/event/champaign-potential-new-member-orientation/2027-03-16/
LOCATION:Carpenters Local 243\, 402 S Duncan Rd\, Champaign\, IL\, 61821\, United States
END:VEVENT
BEGIN:VEVENT
DTSTART;TZID=America/Chicago:20270324T183000
DTEND;TZID=America/Chicago:20270324T193000
DTSTAMP:20260421T154854
CREATED:20260130T201518Z
LAST-MODIFIED:20260220T174125Z
UID:10000203-1805913000-1805916600@www.carpenters243.com
SUMMARY:Southern Committee Meeting
DESCRIPTION:The Southern Committee meets the 4th Monday of every month at the Muddy Saloon in Wheeler. Hope to see you there! \nLet us know if you’ll be joining us by filling out the RSVP form below. \nPlease enable JavaScript in your browser to complete this form.Name *FirstLastEmail *		\n			Phone Name Email\n			\n		\n		Phone *RSVP
URL:https://www.carpenters243.com/event/southern-committee-meeting-3/2027-03-24/
LOCATION:Muddy Saloon\, 10045 N 300th St\, Wheeler\, IL\, 62479\, United States
END:VEVENT
BEGIN:VEVENT
DTSTART;TZID=America/Chicago:20270405T160000
DTEND;TZID=America/Chicago:20270405T170000
DTSTAMP:20260421T154854
CREATED:20251230T174844Z
LAST-MODIFIED:20260130T200710Z
UID:10000379-1806940800-1806944400@www.carpenters243.com
SUMMARY:John Boos Committee Meeting
DESCRIPTION:All John Boos Employees are encouraged to join us. We meet the first Monday of every month at the Effingham Event Center. \n  \nRSVP: \nPlease enable JavaScript in your browser to complete this form.Name *FirstLastEmail *		\n			Email Name Phone\n			\n		\n		PhoneRSVP
URL:https://www.carpenters243.com/event/john-boos-committee-meeting/2027-04-05/
LOCATION:1501 W Fayette Ave\, Effingham\, IL 62401\, 1501 W Fayette Ave\, Effingham\, IL\, 62401\, United States
END:VEVENT
BEGIN:VEVENT
DTSTART;TZID=America/Chicago:20270413T160000
DTEND;TZID=America/Chicago:20270413T170000
DTSTAMP:20260421T154854
CREATED:20250505T200303Z
LAST-MODIFIED:20250603T201608Z
UID:10000084-1807632000-1807635600@www.carpenters243.com
SUMMARY:Effingham Potential New Member Orientation
DESCRIPTION:
URL:https://www.carpenters243.com/event/potential-new-member-orientation-effingham/2027-04-13/
LOCATION:Lincoln Land Building Trades Office\, 104 W Washington\, Effingham\, IL\, 62401\, United States
END:VEVENT
BEGIN:VEVENT
DTSTART;TZID=America/Chicago:20270419T170000
DTEND;TZID=America/Chicago:20270419T190000
DTSTAMP:20260421T154854
CREATED:20260210T211232Z
LAST-MODIFIED:20260210T211606Z
UID:10000452-1808154000-1808161200@www.carpenters243.com
SUMMARY:Membership Meeting
DESCRIPTION:Food starts at 5\, meeting begins at 6. Open to all members. \nPlease RSVP below! \nPlease enable JavaScript in your browser to complete this form.Name *FirstLastEmail *		\n			Phone Name Email\n			\n		\n		Phone *RSVP
URL:https://www.carpenters243.com/event/membership-meeting-3/2027-04-19/
LOCATION:Carpenters Local 243\, 402 S Duncan Rd\, Champaign\, IL\, 61821\, United States
END:VEVENT
BEGIN:VEVENT
DTSTART;TZID=America/Chicago:20270420T160000
DTEND;TZID=America/Chicago:20270420T170000
DTSTAMP:20260421T154854
CREATED:20250505T200607Z
LAST-MODIFIED:20250731T152959Z
UID:10000320-1808236800-1808240400@www.carpenters243.com
SUMMARY:Champaign Potential New Member Orientation
DESCRIPTION:
URL:https://www.carpenters243.com/event/champaign-potential-new-member-orientation/2027-04-20/
LOCATION:Carpenters Local 243\, 402 S Duncan Rd\, Champaign\, IL\, 61821\, United States
END:VEVENT
BEGIN:VEVENT
DTSTART;TZID=America/Chicago:20270428T183000
DTEND;TZID=America/Chicago:20270428T193000
DTSTAMP:20260421T154854
CREATED:20260130T201518Z
LAST-MODIFIED:20260220T174125Z
UID:10000204-1808937000-1808940600@www.carpenters243.com
SUMMARY:Southern Committee Meeting
DESCRIPTION:The Southern Committee meets the 4th Monday of every month at the Muddy Saloon in Wheeler. Hope to see you there! \nLet us know if you’ll be joining us by filling out the RSVP form below. \nPlease enable JavaScript in your browser to complete this form.Name *FirstLast		\n			Phone Email Name\n			\n		\n		Email *Phone *RSVP
URL:https://www.carpenters243.com/event/southern-committee-meeting-3/2027-04-28/
LOCATION:Muddy Saloon\, 10045 N 300th St\, Wheeler\, IL\, 62479\, United States
END:VEVENT
BEGIN:VEVENT
DTSTART;TZID=America/Chicago:20270503T160000
DTEND;TZID=America/Chicago:20270503T170000
DTSTAMP:20260421T154854
CREATED:20251230T174844Z
LAST-MODIFIED:20260130T200710Z
UID:10000380-1809360000-1809363600@www.carpenters243.com
SUMMARY:John Boos Committee Meeting
DESCRIPTION:All John Boos Employees are encouraged to join us. We meet the first Monday of every month at the Effingham Event Center. \n  \nRSVP: \nPlease enable JavaScript in your browser to complete this form.Name *FirstLastEmail *		\n			Name Email Phone\n			\n		\n		PhoneRSVP
URL:https://www.carpenters243.com/event/john-boos-committee-meeting/2027-05-03/
LOCATION:1501 W Fayette Ave\, Effingham\, IL 62401\, 1501 W Fayette Ave\, Effingham\, IL\, 62401\, United States
END:VEVENT
BEGIN:VEVENT
DTSTART;TZID=America/Chicago:20270511T160000
DTEND;TZID=America/Chicago:20270511T170000
DTSTAMP:20260421T154854
CREATED:20250505T200303Z
LAST-MODIFIED:20250603T201608Z
UID:10000085-1810051200-1810054800@www.carpenters243.com
SUMMARY:Effingham Potential New Member Orientation
DESCRIPTION:
URL:https://www.carpenters243.com/event/potential-new-member-orientation-effingham/2027-05-11/
LOCATION:Lincoln Land Building Trades Office\, 104 W Washington\, Effingham\, IL\, 62401\, United States
END:VEVENT
BEGIN:VEVENT
DTSTART;TZID=America/Chicago:20270517T170000
DTEND;TZID=America/Chicago:20270517T190000
DTSTAMP:20260421T154854
CREATED:20260210T211232Z
LAST-MODIFIED:20260210T211606Z
UID:10000453-1810573200-1810580400@www.carpenters243.com
SUMMARY:Membership Meeting
DESCRIPTION:Food starts at 5\, meeting begins at 6. Open to all members. \nPlease RSVP below! \nPlease enable JavaScript in your browser to complete this form.Name *FirstLastEmail *		\n			Email Name Phone\n			\n		\n		Phone *RSVP
URL:https://www.carpenters243.com/event/membership-meeting-3/2027-05-17/
LOCATION:Carpenters Local 243\, 402 S Duncan Rd\, Champaign\, IL\, 61821\, United States
END:VEVENT
BEGIN:VEVENT
DTSTART;TZID=America/Chicago:20270518T160000
DTEND;TZID=America/Chicago:20270518T170000
DTSTAMP:20260421T154854
CREATED:20250505T200607Z
LAST-MODIFIED:20250731T152959Z
UID:10000321-1810656000-1810659600@www.carpenters243.com
SUMMARY:Champaign Potential New Member Orientation
DESCRIPTION:
URL:https://www.carpenters243.com/event/champaign-potential-new-member-orientation/2027-05-18/
LOCATION:Carpenters Local 243\, 402 S Duncan Rd\, Champaign\, IL\, 61821\, United States
END:VEVENT
BEGIN:VEVENT
DTSTART;TZID=America/Chicago:20270526T183000
DTEND;TZID=America/Chicago:20270526T193000
DTSTAMP:20260421T154854
CREATED:20260130T201518Z
LAST-MODIFIED:20260220T174125Z
UID:10000205-1811356200-1811359800@www.carpenters243.com
SUMMARY:Southern Committee Meeting
DESCRIPTION:The Southern Committee meets the 4th Monday of every month at the Muddy Saloon in Wheeler. Hope to see you there! \nLet us know if you’ll be joining us by filling out the RSVP form below. \nPlease enable JavaScript in your browser to complete this form.Name *FirstLastEmail *		\n			Name Email Phone\n			\n		\n		Phone *RSVP
URL:https://www.carpenters243.com/event/southern-committee-meeting-3/2027-05-26/
LOCATION:Muddy Saloon\, 10045 N 300th St\, Wheeler\, IL\, 62479\, United States
END:VEVENT
BEGIN:VEVENT
DTSTART;TZID=America/Chicago:20270607T160000
DTEND;TZID=America/Chicago:20270607T170000
DTSTAMP:20260421T154854
CREATED:20251230T174844Z
LAST-MODIFIED:20260130T200710Z
UID:10000381-1812384000-1812387600@www.carpenters243.com
SUMMARY:John Boos Committee Meeting
DESCRIPTION:All John Boos Employees are encouraged to join us. We meet the first Monday of every month at the Effingham Event Center. \n  \nRSVP: \nPlease enable JavaScript in your browser to complete this form.Name *FirstLastEmail *		\n			Name Phone Email\n			\n		\n		PhoneRSVP
URL:https://www.carpenters243.com/event/john-boos-committee-meeting/2027-06-07/
LOCATION:1501 W Fayette Ave\, Effingham\, IL 62401\, 1501 W Fayette Ave\, Effingham\, IL\, 62401\, United States
END:VEVENT
BEGIN:VEVENT
DTSTART;TZID=America/Chicago:20270608T160000
DTEND;TZID=America/Chicago:20270608T170000
DTSTAMP:20260421T154854
CREATED:20250505T200303Z
LAST-MODIFIED:20250603T201608Z
UID:10000086-1812470400-1812474000@www.carpenters243.com
SUMMARY:Effingham Potential New Member Orientation
DESCRIPTION:
URL:https://www.carpenters243.com/event/potential-new-member-orientation-effingham/2027-06-08/
LOCATION:Lincoln Land Building Trades Office\, 104 W Washington\, Effingham\, IL\, 62401\, United States
END:VEVENT
BEGIN:VEVENT
DTSTART;TZID=America/Chicago:20270615T160000
DTEND;TZID=America/Chicago:20270615T170000
DTSTAMP:20260421T154854
CREATED:20250505T200607Z
LAST-MODIFIED:20250731T152959Z
UID:10000322-1813075200-1813078800@www.carpenters243.com
SUMMARY:Champaign Potential New Member Orientation
DESCRIPTION:
URL:https://www.carpenters243.com/event/champaign-potential-new-member-orientation/2027-06-15/
LOCATION:Carpenters Local 243\, 402 S Duncan Rd\, Champaign\, IL\, 61821\, United States
END:VEVENT
BEGIN:VEVENT
DTSTART;TZID=America/Chicago:20270621T170000
DTEND;TZID=America/Chicago:20270621T190000
DTSTAMP:20260421T154854
CREATED:20260210T211232Z
LAST-MODIFIED:20260210T211606Z
UID:10000454-1813597200-1813604400@www.carpenters243.com
SUMMARY:Membership Meeting
DESCRIPTION:Food starts at 5\, meeting begins at 6. Open to all members. \nPlease RSVP below! \nPlease enable JavaScript in your browser to complete this form.Name *FirstLastEmail *		\n			Phone Name Email\n			\n		\n		Phone *RSVP
URL:https://www.carpenters243.com/event/membership-meeting-3/2027-06-21/
LOCATION:Carpenters Local 243\, 402 S Duncan Rd\, Champaign\, IL\, 61821\, United States
END:VEVENT
BEGIN:VEVENT
DTSTART;TZID=America/Chicago:20270623T183000
DTEND;TZID=America/Chicago:20270623T193000
DTSTAMP:20260421T154854
CREATED:20260130T201518Z
LAST-MODIFIED:20260220T174125Z
UID:10000206-1813775400-1813779000@www.carpenters243.com
SUMMARY:Southern Committee Meeting
DESCRIPTION:The Southern Committee meets the 4th Monday of every month at the Muddy Saloon in Wheeler. Hope to see you there! \nLet us know if you’ll be joining us by filling out the RSVP form below. \nPlease enable JavaScript in your browser to complete this form.Name *FirstLast		\n			Phone Email Name\n			\n		\n		Email *Phone *RSVP
URL:https://www.carpenters243.com/event/southern-committee-meeting-3/2027-06-23/
LOCATION:Muddy Saloon\, 10045 N 300th St\, Wheeler\, IL\, 62479\, United States
END:VEVENT
END:VCALENDAR